Workbook

Sheet Rawda
C1: Annual Report 2025
A2: Date | B2: Consultations | M2: Medical Services | Y2: Medications | Z2: Beneficiaries
B3: General Medicine | C3: Pediatric | D3: Dentist | E3: Gynaecology | F3: Cardiologist | G3: General Surgery | H3: Nutrition | I3: Gastroenterology | J3: Dermatology | K3: ENT | L3: Total | M3: Vaccination | N3: Lab Test | O3: Echo | P3: IUD | Q3: Nibalizer | R3: Cast | S3: Suturing | T3: Ear cleaning | U3: Injections | V3: Serums ( IV) | W3: Bandages | X3: Total | Z3: Male | AB3: Total | AC3: Female | AE3: Total | AF3: Total
Z4: Children | AA4: Adult | AC4: Children | AD4: Adult
A5: 45658 | B5: 144 | C5: 272 | D5: 234 | E5: 344 | F5: 16 | G5: 0 | H5: 0 | I5: 20 | J5: 14 | K5: 0 | L5: =B5+C5+D5+E5+F5+G5+H5+I5+J5+K5 -> 1044 | M5: 55 | N5: 185 | O5: 349 | P5: 0 | Q5: 1 | R5: 0 | S5: 0 | T5: 5 | U5: 0 | V5: 1 | W5: 0 | X5: =SUM(M5:W5) -> 596 | Y5: 545 | Z5: 154 | AA5: 135 | AB5: =SUM(Z5+AA5) -> 289 | AC5: 134 | AD5: 621 | AE5: =SUM(AC5+AD5) -> 755 | AF5: =AE5+AB5 -> 1044
A6: 45689 | B6: 78 | C6: 240 | D6: 196 | E6: 264 | F6: 5 | G6: 0 | H6: 0 | I6: 11 | J6: 15 | K6: 0 | L6: =B6+C6+D6+E6+F6+G6+H6+I6+J6+K6 -> 809 | M6: 44 | N6: 104 | O6: 265 | P6: 0 | Q6: 0 | R6: 0 | S6: 0 | T6: 3 | U6: 0 | V6: 0 | W6: 0 | X6: =SUM(M6:W6) -> 416 | Y6: 337 | Z6: 128 | AA6: 101 | AB6: =SUM(Z6+AA6) -> 229 | AC6: 126 | AD6: 454 | AE6: =SUM(AC6+AD6) -> 580 | AF6: =AE6+AB6 -> 809
A7: 45717 | B7: 75 | C7: 258 | D7: 154 | E7: 407 | F7: 6 | G7: 0 | H7: 0 | I7: 6 | J7: 5 | K7: 0 | L7: =B7+C7+D7+E7+F7+G7+H7+I7+J7+K7 -> 911 | M7: 28 | N7: 213 | O7: 239 | P7: 1 | Q7: 0 | R7: 0 | S7: 1 | T7: 1 | U7: 0 | V7: 2 | W7: 0 | X7: =SUM(M7:W7) -> 485 | Y7: 772 | Z7: 137 | AA7: 184 | AB7: =SUM(Z7+AA7) -> 321 | AC7: 123 | AD7: 467 | AE7: =SUM(AC7+AD7) -> 590 | AF7: =AE7+AB7 -> 911
A8: 45748 | B8: 93 | C8: 221 | D8: 199 | E8: 362 | F8: 13 | G8: 0 | H8: 0 | I8: 8 | J8: 4 | K8: 0 | L8: =B8+C8+D8+E8+F8+G8+H8+I8+J8+K8 -> 900 | M8: 80 | N8: 141 | O8: 324 | P8: 3 | Q8: 0 | R8: 0 | S8: 1 | T8: 3 | U8: 0 | V8: 1 | W8: 1 | X8: =SUM(M8:W8) -> 554 | Y8: 480 | Z8: 123 | AA8: 114 | AB8: =SUM(Z8+AA8) -> 237 | AC8: 98 | AD8: 565 | AE8: =SUM(AC8+AD8) -> 663 | AF8: =AE8+AB8 -> 900
A9: 45778 | B9: 122 | C9: 141 | D9: 62 | E9: 332 | F9: 21 | G9: 0 | H9: 0 | I9: 3 | J9: 5 | K9: 0 | L9: =B9+C9+D9+E9+F9+G9+H9+I9+J9+K9 -> 686 | M9: 73 | N9: 129 | O9: 321 | P9: 3 | Q9: 0 | R9: 0 | S9: 1 | T9: 6 | U9: 0 | V9: 0 | W9: 0 | X9: =SUM(M9:W9) -> 533 | Y9: 416 | Z9: 65 | AA9: 72 | AB9: =SUM(Z9+AA9) -> 137 | AC9: 111 | AD9: 438 | AE9: =SUM(AC9+AD9) -> 549 | AF9: =AE9+AB9 -> 686
A10: 45809 | B10: 113 | C10: 140 | D10: 154 | E10: 260 | F10: 15 | G10: 0 | H10: 0 | I10: 12 | J10: 3 | K10: 0 | L10: =B10+C10+D10+E10+F10+G10+H10+I10+J10+K10 -> 697 | M10: 52 | N10: 109 | O10: 262 | P10: 0 | Q10: 0 | R10: 0 | S10: 1 | T10: 2 | U10: 0 | V10: 2 | W10: 0 | X10: =SUM(M10:W10) -> 428 | Y10: 365 | Z10: 74 | AA10: 115 | AB10: =SUM(Z10+AA10) -> 189 | AC10: 92 | AD10: 416 | AE10: =SUM(AC10+AD10) -> 508 | AF10: =AE10+AB10 -> 697
A11: 45839 | B11: 120 | C11: 144 | D11: 203 | E11: 251 | F11: 27 | G11: 0 | H11: 0 | I11: 11 | J11: 7 | K11: 0 | L11: =B11+C11+D11+E11+F11+G11+H11+I11+J11+K11 -> 763 | M11: 81 | N11: 119 | O11: 247 | P11: 0 | Q11: 0 | R11: 0 | S11: 0 | T11: 5 | U11: 0 | V11: 2 | W11: 1 | X11: =SUM(M11:W11) -> 455 | Y11: 373 | Z11: 75 | AA11: 126 | AB11: =SUM(Z11+AA11) -> 201 | AC11: 102 | AD11: 460 | AE11: =SUM(AC11+AD11) -> 562 | AF11: =AE11+AB11 -> 763
A12: 45870 | B12: 122 | C12: 142 | D12: 159 | E12: 280 | F12: 18 | G12: 0 | H12: 0 | I12: 8 | J12: 8 | K12: 0 | L12: =B12+C12+D12+E12+F12+G12+H12+I12+J12+K12 -> 737 | M12: 56 | N12: 97 | O12: 277 | P12: 0 | Q12: 0 | R12: 0 | S12: 0 | T12: 4 | U12: 0 | V12: 0 | W12: 0 | X12: =SUM(M12:W12) -> 434 | Y12: 404 | Z12: 78 | AA12: 117 | AB12: =SUM(Z12+AA12) -> 195 | AC12: 102 | AD12: 440 | AE12: =SUM(AC12+AD12) -> 542 | AF12: =AE12+AB12 -> 737
A13: 45901 | B13: 117 | C13: 140 | D13: 127 | E13: 239 | F13: 8 | G13: 0 | H13: 0 | I13: 11 | J13: 4 | K13: 0 | L13: =B13+C13+D13+E13+F13+G13+H13+I13+J13+K13 -> 646 | M13: 60 | N13: 128 | O13: 236 | P13: 2 | Q13: 0 | R13: 0 | S13: 0 | T13: 0 | U13: 21 | V13: 1 | W13: 0 | X13: =SUM(M13:W13) -> 448 | Y13: 330 | Z13: 77 | AA13: 84 | AB13: =SUM(Z13+AA13) -> 161 | AC13: 94 | AD13: 391 | AE13: =SUM(AC13+AD13) -> 485 | AF13: =AE13+AB13 -> 646
A14: 45931 | B14: 124 | C14: 166 | D14: 128 | E14: 260 | F14: 34 | G14: 0 | H14: 0 | I14: 2 | J14: 4 | K14: 0 | L14: =B14+C14+D14+E14+F14+G14+H14+I14+J14+K14 -> 718 | M14: 65 | N14: 137 | O14: 259 | P14: 1 | Q14: 0 | R14: 0 | S14: 3 | T14: 1 | U14: 25 | V14: 2 | W14: 0 | X14: =SUM(M14:W14) -> 493 | Y14: 359 | Z14: 90 | AA14: 90 | AB14: =SUM(Z14+AA14) -> 180 | AC14: 116 | AD14: 422 | AE14: =SUM(AC14+AD14) -> 538 | AF14: =AE14+AB14 -> 718
A15: 45962 | B15: 122 | C15: 148 | D15: 104 | E15: 213 | F15: 26 | G15: 0 | H15: 0 | I15: 5 | J15: 3 | K15: 0 | L15: =B15+C15+D15+E15+F15+G15+H15+I15+J15+K15 -> 621 | M15: 39 | N15: 106 | O15: 188 | P15: 0 | Q15: 0 | R15: 0 | S15: 0 | T15: 1 | U15: 21 | V15: 1 | W15: 0 | X15: =SUM(M15:W15) -> 356 | Y15: 379 | Z15: 86 | AA15: 89 | AB15: =SUM(Z15+AA15) -> 175 | AC15: 93 | AD15: 353 | AE15: =SUM(AC15+AD15) -> 446 | AF15: =AE15+AB15 -> 621
A16: 45992 | B16: 142 | C16: 145 | D16: 135 | E16: 245 | F16: 23 | G16: 0 | H16: 0 | I16: 5 | J16: 3 | K16: 0 | L16: =B16+C16+D16+E16+F16+G16+H16+I16+J16+K16 -> 698 | M16: 61 | N16: 104 | O16: 245 | P16: 2 | Q16: 0 | R16: 0 | S16: 0 | T16: 0 | U16: 22 | V16: 2 | W16: 0 | X16: =SUM(M16:W16) -> 436 | Y16: 482 | Z16: 89 | AA16: 102 | AB16: =SUM(Z16+AA16) -> 191 | AC16: 95 | AD16: 412 | AE16: =SUM(AC16+AD16) -> 507 | AF16: =AE16+AB16 -> 698
A17: TOTAL | B17: =SUM(B5:B16) -> 1372 | C17: =SUM(C5:C16) -> 2157 | D17: =SUM(D5:D16) -> 1855 | E17: =SUM(E5:E16) -> 3457 | F17: =SUM(F5:F16) -> 212 | G17: =SUM(G5:G16) -> 0 | H17: =SUM(H5:H16) -> 0 | I17: =SUM(I5:I16) -> 102 | ... AF17: =SUM(AF5:AF16) -> 9230

Sheet Dar Al-Wafa PHC
C1: =Rawda!$C$1 -> Annual Report 2025
A2: Day | B2: Consultation | P2: Medical Service | AD2: Medications | AE2: Beneficiaries
B3: General Medicine | C3: Pediatric | D3: Dentist | E3: Gynecology | F3: Cardiology | G3: Orthopedic | H3: Ophthalmology | I3: Gastroenterology | J3: Endocrinology | K3: ENT | L3: Mental Health | M3: Nutrition | N3: Dermatology | O3: Total | P3: Vaccination | Q3: Lab Test | R3: EKG | S3: Echo | T3: IUD | U3: Nibalizer | V3: Cast | W3: Cast removal | X3: Ear cleaning | Y3: Injections | Z3: Serums ( IV) | AA3: Physiotherapy | AB3: Bandages | AC3: Total | AE3: Male | AG3: Total | AH3: Female | AJ3: Total | AK3: Total
AE4: Children | AF4: Adult | AH4: Children | AI4: Adult
A5: =Rawda!A5 -> 45658 | B5: 146 | C5: 305 | D5: 141 | E5: 253 | F5: 13 | G5: 29 | H5: 0 | I5: 1 | J5: 28 | K5: 16 | L5: 0 | M5: 0 | N5: 31 | O5: =B5+C5+D5+E5+F5+G5+H5+I5+J5+K5+L5+M5+N5 -> 963 | P5: 77 | Q5: 70 | R5: 10 | S5: 250 | T5: 3 | U5: 0 | V5: 0 | W5: 0 | X5: 4 | Y5: 0 | Z5: 0 | AA5: 0 | AB5: 0 | AC5: =SUM(P5:AB5) -> 414 | AD5: 546 | AE5: 216 | AF5: 79 | AG5: =SUM(AE5+AF5) -> 295 | AH5: 227 | AI5: 441 | AJ5: =SUM(AH5+AI5) -> 668 | AK5: =AJ5+AG5 -> 963
A6: =Rawda!A6 -> 45689 | B6: 202 | C6: 274 | D6: 124 | E6: 183 | F6: 8 | G6: 25 | H6: 0 | I6: 7 | J6: 10 | K6: 10 | L6: 0 | M6: 0 | N6: 29 | O6: =B6+C6+D6+E6+F6+G6+H6+I6+J6+K6+L6+M6+N6 -> 872 | P6: 79 | Q6: 77 | R6: 0 | S6: 190 | T6: 0 | U6: 3 | V6: 0 | W6: 0 | X6: 3 | Y6: 0 | Z6: 0 | AA6: 0 | AB6: 0 | AC6: =SUM(P6:AB6) -> 352 | AD6: 489 | AE6: 212 | AF6: 89 | AG6: =SUM(AE6+AF6) -> 301 | AH6: 244 | AI6: 327 | AJ6: =SUM(AH6+AI6) -> 571 | AK6: =AJ6+AG6 -> 872
A7: =Rawda!A7 -> 45717 | B7: 150 | C7: 280 | D7: 73 | E7: 220 | F7: 16 | G7: 22 | H7: 0 | I7: 4 | J7: 9 | K7: 14 | L7: 0 | M7: 0 | N7: 16 | O7: =B7+C7+D7+E7+F7+G7+H7+I7+J7+K7+L7+M7+N7 -> 804 | P7: 55 | Q7: 121 | R7: 0 | S7: 213 | T7: 0 | U7: 0 | V7: 0 | W7: 0 | X7: 6 | Y7: 0 | Z7: 0 | AA7: 0 | AB7: 0 | AC7: =SUM(P7:AB7) -> 395 | AD7: 460 | AE7: 192 | AF7: 90 | AG7: =SUM(AE7+AF7) -> 282 | AH7: 195 | AI7: 327 | AJ7: =SUM(AH7+AI7) -> 522 | AK7: =AJ7+AG7 -> 804
A8: =Rawda!A8 -> 45748 | B8: 120 | C8: 284 | D8: 148 | E8: 313 | F8: 29 | G8: 30 | H8: 0 | I8: 11 | J8: 6 | K8: 17 | L8: 0 | M8: 0 | N8: 19 | O8: =B8+C8+D8+E8+F8+G8+H8+I8+J8+K8+L8+M8+N8 -> 977 | P8: 98 | Q8: 119 | R8: 0 | S8: 346 | T8: 0 | U8: 5 | V8: 0 | W8: 0 | X8: 1 | Y8: 0 | Z8: 0 | AA8: 0 | AB8: 0 | AC8: =SUM(P8:AB8) -> 569 | AD8: 485 | AE8: 181 | AF8: 112 | AG8: =SUM(AE8+AF8) -> 293 | AH8: 197 | AI8: 487 | AJ8: =SUM(AH8+AI8) -> 684 | AK8: =AJ8+AG8 -> 977
A9: =Rawda!A9 -> 45778 | B9: 102 | C9: 459 | D9: 169 | E9: 371 | F9: 35 | G9: 51 | H9: 0 | I9: 12 | J9: 28 | K9: 30 | L9: 0 | M9: 0 | N9: 46 | O9: =B9+C9+D9+E9+F9+G9+H9+I9+J9+K9+L9+M9+N9 -> 1303 | P9: 87 | Q9: 143 | R9: 12 | S9: 398 | T9: 9 | U9: 0 | V9: 0 | W9: 0 | X9: 5 | Y9: 0 | Z9: 0 | AA9: 0 | AB9: 0 | AC9: =SUM(P9:AB9) -> 654 | AD9: 651 | AE9: 253 | AF9: 141 | AG9: =SUM(AE9+AF9) -> 394 | AH9: 267 | AI9: 642 | AJ9: =SUM(AH9+AI9) -> 909 | AK9: =AJ9+AG9 -> 1303
A10: =Rawda!A10 -> 45809 | B10: 98 | C10: 299 | D10: 93 | E10: 246 | F10: 34 | G10: 26 | H10: 0 | I10: 3 | J10: 27 | K10: 18 | L10: 0 | M10: 0 | N10: 18 | O10: =B10+C10+D10+E10+F10+G10+H10+I10+J10+K10+L10+M10+N10 -> 862 | P10: 54 | Q10: 158 | R10: 1 | S10: 255 | T10: 5 | U10: 7 | V10: 0 | W10: 0 | X10: 3 | Y10: 6 | Z10: 0 | AA10: 0 | AB10: 0 | AC10: =SUM(P10:AB10) -> 489 | AD10: 417 | AE10: 154 | AF10: 99 | AG10: =SUM(AE10+AF10) -> 253 | AH10: 198 | AI10: 411 | AJ10: =SUM(AH10+AI10) -> 609 | AK10: =AJ10+AG10 -> 862
A11: =Rawda!A11 -> 45839 | B11: 112 | C11: 400 | D11: 109 | E11: 306 | F11: 59 | G11: 44 | H11: 0 | I11: 17 | J11: 39 | K11: 3 | L11: 0 | M11: 0 | N11: 57 | O11: =B11+C11+D11+E11+F11+G11+H11+I11+J11+K11+L11+M11+N11 -> 1146 | P11: 76 | Q11: 197 | R11: 1 | S11: 280 | T11: 8 | U11: 0 | V11: 0 | W11: 0 | X11: 1 | Y11: 14 | Z11: 0 | AA11: 0 | AB11: 0 | AC11: =SUM(P11:AB11) -> 577 | AD11: 574 | AE11: 206 | AF11: 139 | AG11: =SUM(AE11+AF11) -> 345 | AH11: 229 | AI11: 572 | AJ11: =SUM(AH11+AI11) -> 801 | AK11: =AJ11+AG11 -> 1146
A12: =Rawda!A12 -> 45870 | B12: 80 | C12: 375 | D12: 95 | E12: 265 | F12: 33 | G12: 45 | H12: 0 | I12: 14 | J12: 29 | K12: 13 | L12: 0 | M12: 0 | N12: 57 | O12: =B12+C12+D12+E12+F12+G12+H12+I12+J12+K12+L12+M12+N12 -> 1006 | P12: 16 | Q12: 94 | R12: 0 | S12: 181 | T12: 0 | U12: 0 | V12: 0 | W12: 0 | X12: 0 | Y12: 9 | Z12: 0 | AA12: 0 | AB12: 0 | AC12: =SUM(P12:AB12) -> 300 | AD12: 535 | AE12: 204 | AF12: 118 | AG12: =SUM(AE12+AF12) -> 322 | AH12: 207 | AI12: 477 | AJ12: =SUM(AH12+AI12) -> 684 | AK12: =AJ12+AG12 -> 1006
A13: =Rawda!A13 -> 45901 | B13: 125 | C13: 444 | D13: 92 | E13: 293 | F13: 75 | G13: 58 | H13: 0 | I13: 10 | J13: 38 | K13: 29 | L13: 0 | M13: 0 | N13: 45 | O13: =B13+C13+D13+E13+F13+G13+H13+I13+J13+K13+L13+M13+N13 -> 1209 | P13: 73 | Q13: 76 | R13: 3 | S13: 253 | T13: 0 | U13: 0 | V13: 0 | W13: 0 | X13: 0 | Y13: 0 | Z13: 0 | AA13: 0 | AB13: 0 | AC13: =SUM(P13:AB13) -> 405 | AD13: 638 | AE13: 241 | AF13: 148 | AG13: =SUM(AE13+AF13) -> 389 | AH13: 250 | AI13: 570 | AJ13: =SUM(AH13+AI13) -> 820 | AK13: =AJ13+AG13 -> 1209
A14: =Rawda!A14 -> 45931 | B14: 199 | C14: 580 | D14: 111 | E14: 250 | F14: 84 | G14: 49 | H14: 0 | I14: 4 | J14: 51 | K14: 12 | L14: 0 | M14: 0 | N14: 70 | O14: =B14+C14+D14+E14+F14+G14+H14+I14+J14+K14+L14+M14+N14 -> 1410 | P14: 151 | Q14: 141 | R14: 6 | S14: 241 | T14: 0 | U14: 0 | V14: 0 | W14: 0 | X14: 1 | Y14: 4 | Z14: 0 | AA14: 0 | AB14: 0 | AC14: =SUM(P14:AB14) -> 544 | AD14: 597 | AE14: 351 | AF14: 153 | AG14: =SUM(AE14+AF14) -> 504 | AH14: 358 | AI14: 548 | AJ14: =SUM(AH14+AI14) -> 906 | AK14: =AJ14+AG14 -> 1410
A15: =Rawda!A15 -> 45962 | B15: 127 | C15: 456 | D15: 99 | E15: 276 | F15: 65 | G15: 61 | H15: 0 | I15: 6 | J15: 35 | K15: 0 | L15: 0 | M15: 0 | N15: 45 | O15: =B15+C15+D15+E15+F15+G15+H15+I15+J15+K15+L15+M15+N15 -> 1170 | P15: 75 | Q15: 98 | R15: 0 | S15: 256 | T15: 0 | U15: 0 | V15: 0 | W15: 0 | X15: 0 | Y15: 0 | Z15: 0 | AA15: 0 | AB15: 0 | AC15: =SUM(P15:AB15) -> 429 | AD15: 633 | AE15: 229 | AF15: 138 | AG15: =SUM(AE15+AF15) -> 367 | AH15: 315 | AI15: 488 | AJ15: =SUM(AH15+AI15) -> 803 | AK15: =AJ15+AG15 -> 1170
A16: =Rawda!A16 -> 45992 | B16: 225 | C16: 412 | D16: 91 | E16: 257 | F16: 87 | G16: 17 | H16: 0 | I16: 0 | J16: 49 | K16: 0 | L16: 0 | M16: 0 | N16: 30 | O16: =B16+C16+D16+E16+F16+G16+H16+I16+J16+K16+L16+M16+N16 -> 1168 | P16: 57 | Q16: 221 | R16: 7 | S16: 253 | T16: 0 | U16: 0 | V16: 0 | W16: 0 | X16: 0 | Y16: 5 | Z16: 0 | AA16: 0 | AB16: 0 | AC16: =SUM(P16:AB16) -> 543 | AD16: 675 | AE16: 240 | AF16: 147 | AG16: =SUM(AE16+AF16) -> 387 | AH16: 307 | AI16: 474 | AJ16: =SUM(AH16+AI16) -> 781 | AK16: =AJ16+AG16 -> 1168
A17: Total | B17: =SUM(B5:B16) -> 1686 | C17: =SUM(C5:C16) -> 4568 | D17: =SUM(D5:D16) -> 1345 | E17: =SUM(E5:E16) -> 3233 | F17: =SUM(F5:F16) -> 538 | G17: =SUM(G5:G16) -> 457 | H17: =SUM(H5:H16) -> 0 | I17: =SUM(I5:I16) -> 89 | ... AG17: =SUM(AG5:AG16) -> 4132 | AJ17: =SUM(AJ5:AJ16) -> 8758 | AK17: =SUM(AK5:AK16) -> 12890

Sheet MCA
C1: =Rawda!$C$1 -> Annual Report 2025
A2: Date | B2: Consultations | Q2: Medical Services | AH2: Medications | AI2: Surgeries | AL2: Beneficiaries
B3: General Medicine | C3: Pediatric | D3: Dentist | E3: Gynaecology | F3: Cardiology | G3: General Surgery | H3: Orthopedic | I3: Gastroenterology | J3: Dermatology | K3: Urology | L3: Ophthalmology | M3: Emergency cases | N3: In Patient | O3: ENT | P3: Total | Q3: Vaccination | R3: Lab Test | S3: EKG | T3: Echo | U3: IUD | V3: Nibalizer | W3: Cast | X3: Suturing | Y3: Ear Cleaning | Z3: Injections | AA3: Apheresis | AB3: Urinary Catheter | AC3: X-Ray | AD3: In Patient | AE3: Bandages | AF3: Audiogram | AG3: Total | AI3: Minor | AJ3: Major | AK3: Total | AL3: Male | AN3: Total | AO3: Female | AQ3: Total | AR3: Total
AL4: Children | AM4: Adult | AO4: Children | AP4: Adult
A5: =Rawda!A5 -> 45658 | B5: 808 | C5: 1100 | D5: 226 | E5: 198 | F5: 20 | G5: 10 | H5: 212 | I5: 0 | J5: 0 | K5: 110 | L5: 0 | M5: 30 | N5: 40 | O5: 46 | P5: 2800 | Q5: 12 | R5: 512 | S5: 26 | T5: 280 | U5: 0 | V5: 330 | W5: 22 | X5: 56 | Y5: 0 | Z5: 1172 | AA5: 8 | AB5: 0 | AC5: 504 | AD5: 838 | AE5: 220 | AF5: 0 | AG5: 3980 | AH5: 856 | AI5: 26 | AJ5: 30 | AK5: 56 | AL5: 686 | AM5: 540 | AN5: 1226 | AO5: 654 | AP5: 920 | AQ5: 1574 | AR5: 2800
A6: =Rawda!A6 -> 45689 | B6: 892 | C6: 1700 | D6: 194 | E6: 154 | F6: 16 | G6: 2 | H6: 212 | I6: 0 | J6: 0 | K6: 42 | L6: 0 | M6: 24 | N6: 46 | O6: 8 | P6: 3290 | Q6: 10 | R6: 524 | S6: 6 | T6: 196 | U6: 0 | V6: 496 | W6: 6 | X6: 30 | Y6: 0 | Z6: 1570 | AA6: 6 | AB6: 0 | AC6: 472 | AD6: 1940 | AE6: 102 | AF6: 0 | AG6: 5358 | AH6: 1062 | AI6: 10 | AJ6: 16 | AK6: 26 | AL6: 942 | AM6: 498 | AN6: 1440 | AO6: 990 | AP6: 860 | AQ6: 1850 | AR6: 3290
A7: =Rawda!A7 -> 45717 | B7: 549 | C7: 726 | D7: 115 | E7: 96 | F7: 9 | G7: 0 | H7: 153 | I7: 0 | J7: 0 | K7: 45 | L7: 0 | M7: 14 | N7: 20 | O7: 23 | P7: =B7+C7+D7+E7+F7+G7+H7+I7+J7+K7+L7+O7+M7+N7 -> 1750 | Q7: 13 | R7: 289 | S7: 24 | T7: 135 | U7: 0 | V7: 221 | W7: 10 | X7: 38 | Y7: 0 | Z7: 669 | AA7: 6 | AB7: 0 | AC7: 326 | AD7: 498 | AE7: 87 | AF7: 0 | AG7: =AE7+AD7+AC7+AB7+AA7+Z7+Y7+X7+W7+V7+U7+T7+S7+R7+Q7+AF7 -> 2316 | AH7: 504 | AI7: 4 | AJ7: 6 | AK7: =AI7+AJ7 -> 10 | AL7: 466 | AM7: 364 | AN7: =SUM(AL7+AM7) -> 830 | AO7: 372 | AP7: 548 | AQ7: =SUM(AO7+AP7) -> 920 | AR7: =AQ7+AN7 -> 1750
A8: =Rawda!A8 -> 45748 | B8: 517 | C8: 654 | D8: 175 | E8: 129 | F8: 17 | G8: 6 | H8: 193 | I8: 0 | J8: 0 | K8: 58 | L8: 0 | M8: 28 | N8: 13 | O8: 25 | P8: =B8+C8+D8+E8+F8+G8+H8+I8+J8+K8+L8+O8+M8+N8 -> 1815 | Q8: 30 | R8: 393 | S8: 22 | T8: 180 | U8: 0 | V8: 138 | W8: 13 | X8: 22 | Y8: 0 | Z8: 539 | AA8: 11 | AB8: 0 | AC8: 384 | AD8: 305 | AE8: 97 | AF8: 0 | AG8: =AE8+AD8+AC8+AB8+AA8+Z8+Y8+X8+W8+V8+U8+T8+S8+R8+Q8+AF8 -> 2134 | AH8: 446 | AI8: 8 | AJ8: 16 | AK8: =AI8+AJ8 -> 24 | AL8: 414 | AM8: 423 | AN8: =SUM(AL8+AM8) -> 837 | AO8: 318 | AP8: 660 | AQ8: =SUM(AO8+AP8) -> 978 | AR8: =AQ8+AN8 -> 1815
A9: =Rawda!A9 -> 45778 | B9: 558 | C9: 639 | D9: 177 | E9: 117 | F9: 26 | G9: 0 | H9: 151 | I9: 0 | J9: 0 | K9: 55 | L9: 0 | M9: 32 | N9: 20 | O9: 25 | P9: =B9+C9+D9+E9+F9+G9+H9+I9+J9+K9+L9+O9+M9+N9 -> 1800 | Q9: 12 | R9: 364 | S9: 25 | T9: 178 | U9: 0 | V9: 94 | W9: 5 | X9: 30 | Y9: 0 | Z9: 684 | AA9: 5 | AB9: 0 | AC9: 322 | AD9: 463 | AE9: 117 | AF9: 0 | AG9: =AE9+AD9+AC9+AB9+AA9+Z9+Y9+X9+W9+V9+U9+T9+S9+R9+Q9+AF9 -> 2299 | AH9: 610 | AI9: 7 | AJ9: 5 | AK9: =AI9+AJ9 -> 12 | AL9: 359 | AM9: 411 | AN9: =SUM(AL9+AM9) -> 770 | AO9: 343 | AP9: 687 | AQ9: =SUM(AO9+AP9) -> 1030 | AR9: =AQ9+AN9 -> 1800
A10: =Rawda!A10 -> 45809 | B10: 482 | C10: 585 | D10: 150 | E10: 125 | F10: 22 | G10: 0 | H10: 175 | I10: 0 | J10: 0 | K10: 0 | L10: 0 | M10: 27 | N10: 14 | O10: 18 | P10: =B10+C10+D10+E10+F10+G10+H10+I10+J10+K10+L10+O10+M10+N10 -> 1598 | Q10: 15 | R10: 331 | S10: 20 | T10: 135 | U10: 0 | V10: 65 | W10: 7 | X10: 28 | Y10: 0 | Z10: 730 | AA10: 11 | AB10: 0 | AC10: 307 | AD10: 399 | AE10: 82 | AF10: 2 | AG10: =AE10+AD10+AC10+AB10+AA10+Z10+Y10+X10+W10+V10+U10+T10+S10+R10+Q10+AF10 -> 2132 | AH10: 498 | AI10: 3 | AJ10: 3 | AK10: =AI10+AJ10 -> 6 | AL10: 345 | AM10: 317 | AN10: =SUM(AL10+AM10) -> 662 | AO10: 317 | AP10: 619 | AQ10: =SUM(AO10+AP10) -> 936 | AR10: =AQ10+AN10 -> 1598
A11: =Rawda!A11 -> 45839 | B11: 615 | C11: 514 | D11: 193 | E11: 92 | F11: 26 | G11: 0 | H11: 134 | I11: 0 | J11: 71 | K11: 35 | L11: 0 | M11: 31 | N11: 6 | O11: 22 | P11: =B11+C11+D11+E11+F11+G11+H11+I11+J11+K11+L11+O11+M11+N11 -> 1739 | Q11: 22 | R11: 425 | S11: 21 | T11: 130 | U11: 0 | V11: 33 | W11: 7 | X11: 45 | Y11: 0 | Z11: 634 | AA11: 3 | AB11: 5 | AC11: 348 | AD11: 199 | AE11: 119 | AF11: 0 | AG11: =AE11+AD11+AC11+AB11+AA11+Z11+Y11+X11+W11+V11+U11+T11+S11+R11+Q11+AF11 -> 1991 | AH11: 511 | AI11: 4 | AJ11: 4 | AK11: =AI11+AJ11 -> 8 | AL11: 314 | AM11: 427 | AN11: =SUM(AL11+AM11) -> 741 | AO11: 268 | AP11: 730 | AQ11: =SUM(AO11+AP11) -> 998 | AR11: =AQ11+AN11 -> 1739
A12: =Rawda!A12 -> 45870 | B12: 543 | C12: 512 | D12: 208 | E12: 118 | F12: 19 | G12: 7 | H12: 234 | I12: 0 | J12: 93 | K12: 83 | L12: 0 | M12: 0 | N12: 2 | O12: 28 | P12: =B12+C12+D12+E12+F12+G12+H12+I12+J12+K12+L12+O12+M12+N12 -> 1847 | Q12: 19 | R12: 385 | S12: 27 | T12: 157 | U12: 0 | V12: 21 | W12: 9 | X12: 36 | Y12: 0 | Z12: 475 | AA12: 10 | AB12: 0 | AC12: 351 | AD12: 61 | AE12: 132 | AF12: 0 | AG12: =AE12+AD12+AC12+AB12+AA12+Z12+Y12+X12+W12+V12+U12+T12+S12+R12+Q12+AF12 -> 1683 | AH12: 444 | AI12: 5 | AJ12: 17 | AK12: =AI12+AJ12 -> 22 | AL12: 304 | AM12: 502 | AN12: =SUM(AL12+AM12) -> 806 | AO12: 264 | AP12: 804 | AQ12: =SUM(AO12+AP12) -> 1068 | AR12: =AQ12+AN12 -> 1874
A13: =Rawda!A13 -> 45901 | B13: 439 | C13: 140 | D13: 202 | E13: 126 | F13: 52 | G13: 18 | H13: 155 | I13: 0 | J13: 124 | K13: 52 | L13: 0 | M13: 175 | N13: 0 | O13: 37 | P13: =B13+C13+D13+E13+F13+G13+H13+I13+J13+K13+L13+O13+M13+N13 -> 1520 | Q13: 6 | R13: 335 | S13: 40 | T13: 172 | U13: 0 | V13: 23 | W13: 5 | X13: 35 | Y13: 0 | Z13: 356 | AA13: 8 | AB13: 0 | AC13: 333 | AD13: 0 | AE13: 97 | AF13: 0 | AG13: =AE13+AD13+AC13+AB13+AA13+Z13+Y13+X13+W13+V13+U13+T13+S13+R13+Q13+AF13 -> 1410 | AH13: 337 | AI13: 7 | AJ13: 25 | AK13: =AI13+AJ13 -> 32 | AL13: 124 | AM13: 426 | AN13: =SUM(AL13+AM13) -> 550 | AO13: 131 | AP13: 839 | AQ13: =SUM(AO13+AP13) -> 970 | AR13: =AQ13+AN13 -> 1520
A14: =Rawda!A14 -> 45931 | B14: 381 | C14: 105 | D14: 190 | E14: 118 | F14: 48 | G14: 3 | H14: 150 | I14: 0 | J14: 78 | K14: 76 | L14: 0 | M14: 2 | N14: 0 | O14: 29 | P14: =B14+C14+D14+E14+F14+G14+H14+I14+J14+K14+L14+O14+M14+N14 -> 1180 | Q14: 11 | R14: 321 | S14: 21 | T14: 161 | U14: 0 | V14: 10 | W14: 2 | X14: 14 | Y14: 0 | Z14: 134 | AA14: 6 | AB14: 0 | AC14: 252 | AD14: 0 | AE14: 48 | AF14: 0 | AG14: =AE14+AD14+AC14+AB14+AA14+Z14+Y14+X14+W14+V14+U14+T14+S14+R14+Q14+AF14 -> 980 | AH14: 325 | AI14: 2 | AJ14: 13 | AK14: =AI14+AJ14 -> 15 | AL14: 132 | AM14: 319 | AN14: =SUM(AL14+AM14) -> 451 | AO14: 125 | AP14: 604 | AQ14: =SUM(AO14+AP14) -> 729 | AR14: =AQ14+AN14 -> 1180
A15: =Rawda!A15 -> 45962 | B15: 436 | C15: 135 | D15: 188 | E15: 99 | F15: 41 | G15: 4 | H15: 192 | I15: 0 | J15: 87 | K15: 49 | L15: 0 | M15: 0 | N15: 0 | O15: 24 | P15: =B15+C15+D15+E15+F15+G15+H15+I15+J15+K15+L15+O15+M15+N15 -> 1255 | Q15: 10 | R15: 258 | S15: 30 | T15: 144 | U15: 0 | V15: 20 | W15: 5 | X15: 14 | Y15: 0 | Z15: 132 | AA15: 9 | AB15: 0 | AC15: 271 | AD15: 0 | AE15: 74 | AF15: 0 | AG15: =AE15+AD15+AC15+AB15+AA15+Z15+Y15+X15+W15+V15+U15+T15+S15+R15+Q15+AF15 -> 967 | AH15: 391 | AI15: 4 | AJ15: 10 | AK15: =AI15+AJ15 -> 14 | AL15: 159 | AM15: 352 | AN15: =SUM(AL15+AM15) -> 511 | AO15: 155 | AP15: 589 | AQ15: =SUM(AO15+AP15) -> 744 | AR15: =AQ15+AN15 -> 1255
A16: =Rawda!A16 -> 45992 | B16: 544 | C16: 246 | D16: 215 | E16: 134 | F16: 31 | G16: 1 | H16: 44 | I16: 0 | J16: 120 | K16: 61 | L16: 0 | M16: 0 | N16: 0 | O16: 47 | P16: =B16+C16+D16+E16+F16+G16+H16+I16+J16+K16+L16+O16+M16+N16 -> 1443 | Q16: 6 | R16: 211 | S16: 27 | T16: 196 | U16: 0 | V16: 31 | W16: 3 | X16: 8 | Y16: 0 | Z16: 221 | AA16: 8 | AB16: 0 | AC16: 227 | AD16: 0 | AE16: 54 | AF16: 0 | AG16: =AE16+AD16+AC16+AB16+AA16+Z16+Y16+X16+W16+V16+U16+T16+S16+R16+Q16+AF16 -> 992 | AH16: 535 | AI16: 3 | AJ16: 2 | AK16: =AI16+AJ16 -> 5 | AL16: 204 | AM16: 357 | AN16: =SUM(AL16+AM16) -> 561 | AO16: 191 | AP16: 664 | AQ16: =SUM(AO16+AP16) -> 855 | AR16: =AQ16+AN16 -> 1416
A17: TOTAL | B17: =SUM(B5:B16) -> 6764 | C17: =SUM(C5:C16) -> 7056 | D17: =SUM(D5:D16) -> 2233 | E17: =SUM(E5:E16) -> 1506 | F17: =SUM(F5:F16) -> 327 | G17: =SUM(G5:G16) -> 51 | H17: =SUM(H5:H16) -> 2005 | I17: =SUM(I5:I16) -> 0 | ... AR17: =SUM(AR5:AR16) -> 22037

Sheet Medical Village
C1: =Rawda!$C$1 -> Annual Report 2025
A2: Date | B2: Consultations | P2: Medical Services | AD2: Medications | AE2: Beneficiaries
B3: General Medicine | C3: Pediatric | D3: Dentist | E3: Gynaecology | F3: Cardiology | G3: General Surgery | H3: Orthopedic | I3: Endocrinology | J3: Gastroenterology | K3: Dermatology | L3: Urology | M3: Ophthalmology | N3: ENT | O3: Total | P3: Vaccination | Q3: Lab Test | R3: EKG | S3: Echo | T3: IUD | U3: Nibalizer | V3: Cast | W3: Suturing | X3: Ear Cleaning | Y3: Injections | Z3: Serums ( IV) | AA3: Physiotherapy | AB3: Bandages | AC3: Total | AE3: Male | AG3: Total | AH3: Female | AJ3: Total | AK3: Total
AE4: Children | AF4: Adult | AH4: Children | AI4: Adult
A5: =Rawda!A5 -> 45658 | B5: 41 | C5: 127 | D5: 242 | E5: 247 | F5: 137 | G5: 14 | H5: 0 | I5: 204 | J5: 0 | K5: 37 | L5: 0 | M5: 10 | N5: 0 | O5: =B5+C5+D5+E5+F5+G5+H5+J5+K5+L5+M5+N5+I5 -> 1059 | P5: 71 | Q5: 148 | R5: 3 | S5: 218 | T5: 2 | U5: 0 | V5: 0 | W5: 0 | X5: 0 | Y5: 0 | Z5: 0 | AA5: 43 | AB5: 0 | AC5: =SUM(P5:AB5) -> 485 | AD5: 625 | AE5: 114 | AF5: 273 | AG5: =SUM(AE5+AF5) -> 387 | AH5: 108 | AI5: 641 | AJ5: =SUM(AH5+AI5) -> 749 | AK5: =AJ5+AG5 -> 1136
A6: =Rawda!A6 -> 45689 | B6: 65 | C6: 136 | D6: 216 | E6: 271 | F6: 32 | G6: 14 | H6: 0 | I6: 84 | J6: 0 | K6: 22 | L6: 0 | M6: 7 | N6: 0 | O6: =B6+C6+D6+E6+F6+G6+H6+J6+K6+L6+M6+N6+I6 -> 847 | P6: 58 | Q6: 136 | R6: 3 | S6: 187 | T6: 1 | U6: 0 | V6: 0 | W6: 0 | X6: 0 | Y6: 0 | Z6: 0 | AA6: 23 | AB6: 0 | AC6: =SUM(P6:AB6) -> 408 | AD6: 431 | AE6: 102 | AF6: 147 | AG6: =SUM(AE6+AF6) -> 249 | AH6: 174 | AI6: 471 | AJ6: =SUM(AH6+AI6) -> 645 | AK6: =AJ6+AG6 -> 894
A7: =Rawda!A7 -> 45717 | B7: 42 | C7: 116 | D7: 136 | E7: 266 | F7: 141 | G7: 13 | H7: 0 | I7: 156 | J7: 0 | K7: 12 | L7: 0 | M7: 5 | N7: 0 | O7: =B7+C7+D7+E7+F7+G7+H7+J7+K7+L7+M7+N7+I7 -> 887 | P7: 60 | Q7: 140 | R7: 1 | S7: 170 | T7: 0 | U7: 0 | V7: 0 | W7: 0 | X7: 0 | Y7: 0 | Z7: 0 | AA7: 19 | AB7: 0 | AC7: =SUM(P7:AB7) -> 390 | AD7: 560 | AE7: 105 | AF7: 202 | AG7: =SUM(AE7+AF7) -> 307 | AH7: 89 | AI7: 534 | AJ7: =SUM(AH7+AI7) -> 623 | AK7: =AJ7+AG7 -> 930
A8: =Rawda!A8 -> 45748 | B8: 37 | C8: 178 | D8: 234 | E8: 248 | F8: 89 | G8: 17 | H8: 0 | I8: 119 | J8: 0 | K8: 28 | L8: 0 | M8: 3 | N8: 0 | O8: =B8+C8+D8+E8+F8+G8+H8+J8+K8+L8+M8+N8+I8 -> 953 | P8: 59 | Q8: 149 | R8: 1 | S8: 248 | T8: 2 | U8: 0 | V8: 0 | W8: 0 | X8: 0 | Y8: 0 | Z8: 0 | AA8: 19 | AB8: 0 | AC8: =SUM(P8:AB8) -> 478 | AD8: 609 | AE8: 177 | AF8: 104 | AG8: =SUM(AE8+AF8) -> 281 | AH8: 138 | AI8: 571 | AJ8: =SUM(AH8+AI8) -> 709 | AK8: =AJ8+AG8 -> 990
A9: =Rawda!A9 -> 45778 | B9: 73 | C9: 311 | D9: 179 | E9: 295 | F9: 118 | G9: 11 | H9: 0 | I9: 20 | J9: 0 | K9: 27 | L9: 0 | M9: 11 | N9: 0 | O9: =B9+C9+D9+E9+F9+G9+H9+J9+K9+L9+M9+N9+I9 -> 1045 | P9: 68 | Q9: 156 | R9: 1 | S9: 296 | T9: 0 | U9: 0 | V9: 0 | W9: 0 | X9: 0 | Y9: 0 | Z9: 0 | AA9: 35 | AB9: 0 | AC9: =SUM(P9:AB9) -> 556 | AD9: 696 | AE9: 169 | AF9: 137 | AG9: =SUM(AE9+AF9) -> 306 | AH9: 188 | AI9: 597 | AJ9: =SUM(AH9+AI9) -> 785 | AK9: =AJ9+AG9 -> 1091
A10: =Rawda!A10 -> 45809 | B10: 64 | C10: 177 | D10: 121 | E10: 245 | F10: 52 | G10: 26 | H10: 0 | I10: 111 | J10: 0 | K10: 30 | L10: 0 | M10: 7 | N10: 0 | O10: =B10+C10+D10+E10+F10+G10+H10+J10+K10+L10+M10+N10+I10 -> 833 | P10: 60 | Q10: 154 | R10: 2 | S10: 245 | T10: 0 | U10: 0 | V10: 0 | W10: 0 | X10: 0 | Y10: 0 | Z10: 0 | AA10: 22 | AB10: 0 | AC10: =SUM(P10:AB10) -> 483 | AD10: 500 | AE10: 121 | AF10: 134 | AG10: =SUM(AE10+AF10) -> 255 | AH10: 95 | AI10: 483 | AJ10: =SUM(AH10+AI10) -> 578 | AK10: =AJ10+AG10 -> 833
A11: =Rawda!A11 -> 45839 | B11: 82 | C11: 169 | D11: 177 | E11: 222 | F11: 85 | G11: 26 | H11: 0 | I11: 100 | J11: 0 | K11: 13 | L11: 0 | M11: 9 | N11: 0 | O11: =B11+C11+D11+E11+F11+G11+H11+J11+K11+L11+M11+N11+I11 -> 883 | P11: 60 | Q11: 146 | R11: 1 | S11: 224 | T11: 0 | U11: 0 | V11: 0 | W11: 0 | X11: 0 | Y11: 0 | Z11: 0 | AA11: 22 | AB11: 0 | AC11: =SUM(P11:AB11) -> 453 | AD11: 536 | AE11: 116 | AF11: 157 | AG11: =SUM(AE11+AF11) -> 273 | AH11: 87 | AI11: 523 | AJ11: =SUM(AH11+AI11) -> 610 | AK11: =AJ11+AG11 -> 883
A12: =Rawda!A12 -> 45870 | B12: 79 | C12: 154 | D12: 222 | E12: 223 | F12: 58 | G12: 22 | H12: 0 | I12: 56 | J12: 0 | K12: 16 | L12: 0 | M12: 11 | N12: 0 | O12: =B12+C12+D12+E12+F12+G12+H12+J12+K12+L12+M12+N12+I12 -> 841 | P12: 61 | Q12: 139 | R12: 1 | S12: 224 | T12: 0 | U12: 0 | V12: 0 | W12: 0 | X12: 0 | Y12: 0 | Z12: 0 | AA12: 27 | AB12: 0 | AC12: =SUM(P12:AB12) -> 452 | AD12: 503 | AE12: 106 | AF12: 137 | AG12: =SUM(AE12+AF12) -> 243 | AH12: 84 | AI12: 514 | AJ12: =SUM(AH12+AI12) -> 598 | AK12: =AJ12+AG12 -> 841
A13: =Rawda!A13 -> 45901 | B13: 67 | C13: 160 | D13: 178 | E13: 218 | F13: 88 | G13: 19 | H13: 0 | I13: 77 | J13: 0 | K13: 19 | L13: 0 | M13: 7 | N13: 0 | O13: =B13+C13+D13+E13+F13+G13+H13+J13+K13+L13+M13+N13+I13 -> 833 | P13: 59 | Q13: 124 | R13: 0 | S13: 218 | T13: 0 | U13: 0 | V13: 0 | W13: 0 | X13: 0 | Y13: 0 | Z13: 0 | AA13: 22 | AB13: 0 | AC13: =SUM(P13:AB13) -> 423 | AD13: 580 | AE13: 110 | AF13: 162 | AG13: =SUM(AE13+AF13) -> 272 | AH13: 84 | AI13: 477 | AJ13: =SUM(AH13+AI13) -> 561 | AK13: =AJ13+AG13 -> 833
A14: =Rawda!A14 -> 45931 | B14: 91 | C14: 156 | D14: 205 | E14: 212 | F14: 55 | G14: 16 | H14: 0 | I14: 48 | J14: 0 | K14: 15 | L14: 0 | M14: 9 | N14: 0 | O14: =B14+C14+D14+E14+F14+G14+H14+J14+K14+L14+M14+N14+I14 -> 807 | P14: 58 | Q14: 131 | R14: 0 | S14: 212 | T14: 0 | U14: 0 | V14: 0 | W14: 0 | X14: 0 | Y14: 0 | Z14: 0 | AA14: 22 | AB14: 0 | AC14: =SUM(P14:AB14) -> 423 | AD14: 581 | AE14: 86 | AF14: 161 | AG14: =SUM(AE14+AF14) -> 247 | AH14: 93 | AI14: 467 | AJ14: =SUM(AH14+AI14) -> 560 | AK14: =AJ14+AG14 -> 807
A15: =Rawda!A15 -> 45962 | B15: 54 | C15: 131 | D15: 207 | E15: 175 | F15: 62 | G15: 16 | H15: 0 | I15: 67 | J15: 0 | K15: 22 | L15: 0 | M15: 8 | N15: 0 | O15: =B15+C15+D15+E15+F15+G15+H15+J15+K15+L15+M15+N15+I15 -> 742 | P15: 52 | Q15: 105 | R15: 0 | S15: 175 | T15: 0 | U15: 0 | V15: 0 | W15: 0 | X15: 0 | Y15: 0 | Z15: 0 | AA15: 33 | AB15: 0 | AC15: =SUM(P15:AB15) -> 365 | AD15: 434 | AE15: 91 | AF15: 159 | AG15: =SUM(AE15+AF15) -> 250 | AH15: 74 | AI15: 418 | AJ15: =SUM(AH15+AI15) -> 492 | AK15: =AJ15+AG15 -> 742
A16: =Rawda!A16 -> 45992 | B16: 62 | C16: 165 | D16: 223 | E16: 139 | F16: 58 | G16: 12 | H16: 0 | I16: 61 | J16: 0 | K16: 11 | L16: 0 | M16: 4 | N16: 0 | O16: =B16+C16+D16+E16+F16+G16+H16+J16+K16+L16+M16+N16+I16 -> 735 | P16: 49 | Q16: 110 | R16: 0 | S16: 138 | T16: 0 | U16: 0 | V16: 0 | W16: 0 | X16: 0 | Y16: 0 | Z16: 0 | AA16: 47 | AB16: 0 | AC16: =SUM(P16:AB16) -> 344 | AD16: 447 | AE16: 104 | AF16: 120 | AG16: =SUM(AE16+AF16) -> 224 | AH16: 79 | AI16: 432 | AJ16: =SUM(AH16+AI16) -> 511 | AK16: =AJ16+AG16 -> 735
A17: TOTAL | B17: =SUM(B5:B16) -> 757 | C17: =SUM(C5:C16) -> 1980 | D17: =SUM(D5:D16) -> 2340 | E17: =SUM(E5:E16) -> 2761 | F17: =SUM(F5:F16) -> 975 | G17: =SUM(G5:G16) -> 206 | H17: =SUM(H5:H16) -> 0 | I17: =SUM(I5:I16) -> 1103 | ... AK17: =SUM(AK5:AK16) -> 10715

Sheet Annual Report 2025
C1: =Rawda!$C$1 -> Annual Report 2025
A2: Date | B2: Consultations | T2: Medical Services | AN2: Medications | AO2: Surgeries | AR2: Beneficiaries
B3: General Medicine | C3: Pediatric | D3: Dentist | E3: Gynaecology | F3: Cardiology | G3: General Surgery | H3: Orthopedic | I3: Gastroenterology | J3: Dermatology | K3: Urology | L3: Ophthalmology | M3: Emergency cases | N3: In Patient | O3: ENT | P3: Nutrition | Q3: Endocrinology | R3: Mental Health | S3: Total | T3: Vaccination | U3: Lab Test | V3: EKG | W3: Echo | X3: IUD | Y3: Nibalizer | Z3: Cast | AA3: Suturing | AB3: Ear Cleaning | AC3: Injections | AD3: Apheresis | AE3: Urinary Catheter | AF3: X-Ray | AG3: In Patient | AH3: Bandages | AI3: Serums ( IV) | AJ3: Physiotherapy | AK3: Cast removal | AL3: Audiogram | AM3: Total | AO3: Minor | AP3: Major | AQ3: Total | AR3: Male | AT3: Total/Male | AU3: Female | AW3: Total/Female | AX3: Total
AR4: Children | AS4: Adult | AU4: Children | AV4: Adult
A5: =Rawda!A5 -> 45658 | B5: =Rawda!B5+'Dar Al-Wafa PHC'!B5+MCA!B5+'Medical Village'!B5 -> 1139 | C5: =Rawda!C5+'Dar Al-Wafa PHC'!C5+MCA!C5+'Medical Village'!C5 -> 1804 | D5: =Rawda!D5+'Dar Al-Wafa PHC'!D5+MCA!D5+'Medical Village'!D5 -> 843 | E5: =Rawda!E5+'Dar Al-Wafa PHC'!E5+MCA!E5+'Medical Village'!E5 -> 1042 | F5: =Rawda!F5+'Dar Al-Wafa PHC'!F5+MCA!F5+'Medical Village'!F5 -> 186 | G5: =Rawda!G5+MCA!G5+'Medical Village'!G5 -> 24 | H5: ='Dar Al-Wafa PHC'!G5+MCA!H5+'Medical Village'!H5 -> 241 | I5: =Rawda!I5+'Dar Al-Wafa PHC'!I5+MCA!I5+'Medical Village'!J5 -> 21 | J5: =Rawda!J5+MCA!J5+'Medical Village'!K5+'Dar Al-Wafa PHC'!N5 -> 82 | K5: =MCA!K5+'Medical Village'!L5 -> 110 | L5: ='Dar Al-Wafa PHC'!H5+MCA!L5+'Medical Village'!M5 -> 10 | M5: =MCA!M5 -> 30 | N5: =MCA!N5 -> 40 | O5: =Rawda!K5+'Dar Al-Wafa PHC'!K5+MCA!O5+'Medical Village'!N5 -> 62 | P5: =Rawda!H5+'Dar Al-Wafa PHC'!M5 -> 0 | Q5: ='Medical Village'!I5+'Dar Al-Wafa PHC'!J5 -> 232 | R5: ='Dar Al-Wafa PHC'!L5 -> 0 | S5: =B5+C5+D5+E5+F5+G5+H5+I5+J5+K5+L5+O5+M5+N5+P5+Q5+R5 -> 5866 | T5: =Rawda!M5+'Dar Al-Wafa PHC'!P5+MCA!Q5+'Medical Village'!P5 -> 215 | U5: =Rawda!N5+'Dar Al-Wafa PHC'!Q5+MCA!R5+'Medical Village'!Q5 -> 915 | V5: ='Dar Al-Wafa PHC'!R5+MCA!S5+'Medical Village'!R5 -> 39 | W5: =Rawda!O5+'Dar Al-Wafa PHC'!S5+MCA!T5+'Medical Village'!S5 -> 1097 | X5: =Rawda!P5+'Dar Al-Wafa PHC'!T5+MCA!U5+'Medical Village'!T5 -> 5 | Y5: =Rawda!Q5+'Dar Al-Wafa PHC'!U5+MCA!V5+'Medical Village'!U5 -> 331 | Z5: =Rawda!R5+'Dar Al-Wafa PHC'!V5+MCA!W5+'Medical Village'!V5 -> 22 | AA5: =Rawda!S5+MCA!X5+'Medical Village'!W5 -> 56 | AB5: =Rawda!T5+'Dar Al-Wafa PHC'!X5+MCA!Y5+'Medical Village'!X5 -> 9 | AC5: =Rawda!U5+'Dar Al-Wafa PHC'!Y5+MCA!Z5+'Medical Village'!Y5 -> 1172 | AD5: =MCA!AA5 -> 8 | AE5: =MCA!AB5 -> 0 | AF5: =MCA!AC5 -> 504 | AG5: =MCA!AD5 -> 838 | AH5: =Rawda!W5+'Dar Al-Wafa PHC'!AB5+MCA!AE5+'Medical Village'!AB5 -> 220 | AI5: =Rawda!V5+'Dar Al-Wafa PHC'!Z5+'Medical Village'!Z5 -> 1 | AJ5: ='Dar Al-Wafa PHC'!AA5+'Medical Village'!AA5 -> 43 | AK5: ='Dar Al-Wafa PHC'!W5 -> 0 | AL5: =MCA!AF5 -> 0 | AM5: =AH5+AG5+AF5+AE5+AD5+AC5+AB5+AA5+Z5+Y5+X5+W5+V5+U5+T5+AI5+AJ5+AK5+AL5 -> 5475 | AN5: =Rawda!Y5+'Dar Al-Wafa PHC'!AD5+MCA!AH5+'Medical Village'!AD5 -> 2572 | AO5: =MCA!AI5 -> 26 | AP5: =MCA!AJ5 -> 30 | AQ5: =AO5+AP5 -> 56 | AR5: =Rawda!Z5+'Dar Al-Wafa PHC'!AE5+MCA!AL5+'Medical Village'!AE5 -> 1170 | AS5: =Rawda!AA5+'Dar Al-Wafa PHC'!AF5+MCA!AM5+'Medical Village'!AF5 -> 1027 | AT5: =SUM(AR5+AS5) -> 2197 | AU5: =Rawda!AC5+'Dar Al-Wafa PHC'!AH5+MCA!AO5+'Medical Village'!AH5 -> 1123 | AV5: =Rawda!AD5+'Dar Al-Wafa PHC'!AI5+MCA!AP5+'Medical Village'!AI5 -> 2623 | AW5: =SUM(AU5+AV5) -> 3746 | AX5: =AW5+AT5 -> 5943
A6: =Rawda!A6 -> 45689 | B6: =Rawda!B6+'Dar Al-Wafa PHC'!B6+MCA!B6+'Medical Village'!B6 -> 1237 | C6: =Rawda!C6+'Dar Al-Wafa PHC'!C6+MCA!C6+'Medical Village'!C6 -> 2350 | D6: =Rawda!D6+'Dar Al-Wafa PHC'!D6+MCA!D6+'Medical Village'!D6 -> 730 | E6: =Rawda!E6+'Dar Al-Wafa PHC'!E6+MCA!E6+'Medical Village'!E6 -> 872 | F6: =Rawda!F6+'Dar Al-Wafa PHC'!F6+MCA!F6+'Medical Village'!F6 -> 61 | G6: =Rawda!G6+MCA!G6+'Medical Village'!G6 -> 16 | H6: ='Dar Al-Wafa PHC'!G6+MCA!H6+'Medical Village'!H6 -> 237 | I6: =Rawda!I6+'Dar Al-Wafa PHC'!I6+MCA!I6+'Medical Village'!J6 -> 18 | J6: =Rawda!J6+MCA!J6+'Medical Village'!K6+'Dar Al-Wafa PHC'!N6 -> 66 | K6: =MCA!K6+'Medical Village'!L6 -> 42 | L6: ='Dar Al-Wafa PHC'!H6+MCA!L6+'Medical Village'!M6 -> 7 | M6: =MCA!M6 -> 24 | N6: =MCA!N6 -> 46 | O6: =Rawda!K6+'Dar Al-Wafa PHC'!K6+MCA!O6+'Medical Village'!N6 -> 18 | P6: =Rawda!H6+'Dar Al-Wafa PHC'!M6 -> 0 | Q6: ='Medical Village'!I6+'Dar Al-Wafa PHC'!J6 -> 94 | R6: ='Dar Al-Wafa PHC'!L6 -> 0 | S6: =B6+C6+D6+E6+F6+G6+H6+I6+J6+K6+L6+O6+M6+N6+P6+Q6+R6 -> 5818 | T6: =Rawda!M6+'Dar Al-Wafa PHC'!P6+MCA!Q6+'Medical Village'!P6 -> 191 | U6: =Rawda!N6+'Dar Al-Wafa PHC'!Q6+MCA!R6+'Medical Village'!Q6 -> 841 | V6: ='Dar Al-Wafa PHC'!R6+MCA!S6+'Medical Village'!R6 -> 9 | W6: =Rawda!O6+'Dar Al-Wafa PHC'!S6+MCA!T6+'Medical Village'!S6 -> 838 | X6: =Rawda!P6+'Dar Al-Wafa PHC'!T6+MCA!U6+'Medical Village'!T6 -> 1 | Y6: =Rawda!Q6+'Dar Al-Wafa PHC'!U6+MCA!V6+'Medical Village'!U6 -> 499 | Z6: =Rawda!R6+'Dar Al-Wafa PHC'!V6+MCA!W6+'Medical Village'!V6 -> 6 | AA6: =Rawda!S6+MCA!X6+'Medical Village'!W6 -> 30 | AB6: =Rawda!T6+'Dar Al-Wafa PHC'!X6+MCA!Y6+'Medical Village'!X6 -> 6 | AC6: =Rawda!U6+'Dar Al-Wafa PHC'!Y6+MCA!Z6+'Medical Village'!Y6 -> 1570 | AD6: =MCA!AA6 -> 6 | AE6: =MCA!AB6 -> 0 | AF6: =MCA!AC6 -> 472 | AG6: =MCA!AD6 -> 1940 | AH6: =Rawda!W6+'Dar Al-Wafa PHC'!AB6+MCA!AE6+'Medical Village'!AB6 -> 102 | AI6: =Rawda!V6+'Dar Al-Wafa PHC'!Z6+'Medical Village'!Z6 -> 0 | AJ6: ='Dar Al-Wafa PHC'!AA6+'Medical Village'!AA6 -> 23 | AK6: ='Dar Al-Wafa PHC'!W6 -> 0 | AL6: =MCA!AF6 -> 0 | AM6: =AH6+AG6+AF6+AE6+AD6+AC6+AB6+AA6+Z6+Y6+X6+W6+V6+U6+T6+AI6+AJ6+AK6+AL6 -> 6534 | AN6: =Rawda!Y6+'Dar Al-Wafa PHC'!AD6+MCA!AH6+'Medical Village'!AD6 -> 2319 | AO6: =MCA!AI6 -> 10 | AP6: =MCA!AJ6 -> 16 | AQ6: =AO6+AP6 -> 26 | AR6: =Rawda!Z6+'Dar Al-Wafa PHC'!AE6+MCA!AL6+'Medical Village'!AE6 -> 1384 | AS6: =Rawda!AA6+'Dar Al-Wafa PHC'!AF6+MCA!AM6+'Medical Village'!AF6 -> 835 | AT6: =SUM(AR6+AS6) -> 2219 | AU6: =Rawda!AC6+'Dar Al-Wafa PHC'!AH6+MCA!AO6+'Medical Village'!AH6 -> 1534 | AV6: =Rawda!AD6+'Dar Al-Wafa PHC'!AI6+MCA!AP6+'Medical Village'!AI6 -> 2112 | AW6: =SUM(AU6+AV6) -> 3646 | AX6: =AW6+AT6 -> 5865
A7: =Rawda!A7 -> 45717 | B7: =Rawda!B7+'Dar Al-Wafa PHC'!B7+MCA!B7+'Medical Village'!B7 -> 816 | C7: =Rawda!C7+'Dar Al-Wafa PHC'!C7+MCA!C7+'Medical Village'!C7 -> 1380 | D7: =Rawda!D7+'Dar Al-Wafa PHC'!D7+MCA!D7+'Medical Village'!D7 -> 478 | E7: =Rawda!E7+'Dar Al-Wafa PHC'!E7+MCA!E7+'Medical Village'!E7 -> 989 | F7: =Rawda!F7+'Dar Al-Wafa PHC'!F7+MCA!F7+'Medical Village'!F7 -> 172 | G7: =Rawda!G7+MCA!G7+'Medical Village'!G7 -> 13 | H7: ='Dar Al-Wafa PHC'!G7+MCA!H7+'Medical Village'!H7 -> 175 | I7: =Rawda!I7+'Dar Al-Wafa PHC'!I7+MCA!I7+'Medical Village'!J7 -> 10 | J7: =Rawda!J7+MCA!J7+'Medical Village'!K7+'Dar Al-Wafa PHC'!N7 -> 33 | K7: =MCA!K7+'Medical Village'!L7 -> 45 | L7: ='Dar Al-Wafa PHC'!H7+MCA!L7+'Medical Village'!M7 -> 5 | M7: =MCA!M7 -> 14 | N7: =MCA!N7 -> 20 | O7: =Rawda!K7+'Dar Al-Wafa PHC'!K7+MCA!O7+'Medical Village'!N7 -> 37 | P7: =Rawda!H7+'Dar Al-Wafa PHC'!M7 -> 0 | Q7: ='Medical Village'!I7+'Dar Al-Wafa PHC'!J7 -> 165 | R7: ='Dar Al-Wafa PHC'!L7 -> 0 | S7: =B7+C7+D7+E7+F7+G7+H7+I7+J7+K7+L7+O7+M7+N7+P7+Q7+R7 -> 4352 | T7: =Rawda!M7+'Dar Al-Wafa PHC'!P7+MCA!Q7+'Medical Village'!P7 -> 156 | U7: =Rawda!N7+'Dar Al-Wafa PHC'!Q7+MCA!R7+'Medical Village'!Q7 -> 763 | V7: ='Dar Al-Wafa PHC'!R7+MCA!S7+'Medical Village'!R7 -> 25 | W7: =Rawda!O7+'Dar Al-Wafa PHC'!S7+MCA!T7+'Medical Village'!S7 -> 757 | X7: =Rawda!P7+'Dar Al-Wafa PHC'!T7+MCA!U7+'Medical Village'!T7 -> 1 | Y7: =Rawda!Q7+'Dar Al-Wafa PHC'!U7+MCA!V7+'Medical Village'!U7 -> 221 | Z7: =Rawda!R7+'Dar Al-Wafa PHC'!V7+MCA!W7+'Medical Village'!V7 -> 10 | AA7: =Rawda!S7+MCA!X7+'Medical Village'!W7 -> 39 | AB7: =Rawda!T7+'Dar Al-Wafa PHC'!X7+MCA!Y7+'Medical Village'!X7 -> 7 | AC7: =Rawda!U7+'Dar Al-Wafa PHC'!Y7+MCA!Z7+'Medical Village'!Y7 -> 669 | AD7: =MCA!AA7 -> 6 | AE7: =MCA!AB7 -> 0 | AF7: =MCA!AC7 -> 326 | AG7: =MCA!AD7 -> 498 | AH7: =Rawda!W7+'Dar Al-Wafa PHC'!AB7+MCA!AE7+'Medical Village'!AB7 -> 87 | AI7: =Rawda!V7+'Dar Al-Wafa PHC'!Z7+'Medical Village'!Z7 -> 2 | AJ7: ='Dar Al-Wafa PHC'!AA7+'Medical Village'!AA7 -> 19 | AK7: ='Dar Al-Wafa PHC'!W7 -> 0 | AL7: =MCA!AF7 -> 0 | AM7: =AH7+AG7+AF7+AE7+AD7+AC7+AB7+AA7+Z7+Y7+X7+W7+V7+U7+T7+AI7+AJ7+AK7+AL7 -> 3586 | AN7: =Rawda!Y7+'Dar Al-Wafa PHC'!AD7+MCA!AH7+'Medical Village'!AD7 -> 2296 | AO7: =MCA!AI7 -> 4 | AP7: =MCA!AJ7 -> 6 | AQ7: =AO7+AP7 -> 10 | AR7: =Rawda!Z7+'Dar Al-Wafa PHC'!AE7+MCA!AL7+'Medical Village'!AE7 -> 900 | AS7: =Rawda!AA7+'Dar Al-Wafa PHC'!AF7+MCA!AM7+'Medical Village'!AF7 -> 840 | AT7: =SUM(AR7+AS7) -> 1740 | AU7: =Rawda!AC7+'Dar Al-Wafa PHC'!AH7+MCA!AO7+'Medical Village'!AH7 -> 779 | AV7: =Rawda!AD7+'Dar Al-Wafa PHC'!AI7+MCA!AP7+'Medical Village'!AI7 -> 1876 | AW7: =SUM(AU7+AV7) -> 2655 | AX7: =AW7+AT7 -> 4395
A8: =Rawda!A8 -> 45748 | B8: =Rawda!B8+'Dar Al-Wafa PHC'!B8+MCA!B8+'Medical Village'!B8 -> 767 | C8: =Rawda!C8+'Dar Al-Wafa PHC'!C8+MCA!C8+'Medical Village'!C8 -> 1337 | D8: =Rawda!D8+'Dar Al-Wafa PHC'!D8+MCA!D8+'Medical Village'!D8 -> 756 | E8: =Rawda!E8+'Dar Al-Wafa PHC'!E8+MCA!E8+'Medical Village'!E8 -> 1052 | F8: =Rawda!F8+'Dar Al-Wafa PHC'!F8+MCA!F8+'Medical Village'!F8 -> 148 | G8: =Rawda!G8+MCA!G8+'Medical Village'!G8 -> 23 | H8: ='Dar Al-Wafa PHC'!G8+MCA!H8+'Medical Village'!H8 -> 223 | I8: =Rawda!I8+'Dar Al-Wafa PHC'!I8+MCA!I8+'Medical Village'!J8 -> 19 | J8: =Rawda!J8+MCA!J8+'Medical Village'!K8+'Dar Al-Wafa PHC'!N8 -> 51 | K8: =MCA!K8+'Medical Village'!L8 -> 58 | L8: ='Dar Al-Wafa PHC'!H8+MCA!L8+'Medical Village'!M8 -> 3 | M8: =MCA!M8 -> 28 | N8: =MCA!N8 -> 13 | O8: =Rawda!K8+'Dar Al-Wafa PHC'!K8+MCA!O8+'Medical Village'!N8 -> 42 | P8: =Rawda!H8+'Dar Al-Wafa PHC'!M8 -> 0 | Q8: ='Medical Village'!I8+'Dar Al-Wafa PHC'!J8 -> 125 | R8: ='Dar Al-Wafa PHC'!L8 -> 0 | S8: =B8+C8+D8+E8+F8+G8+H8+I8+J8+K8+L8+O8+M8+N8+P8+Q8+R8 -> 4645 | T8: =Rawda!M8+'Dar Al-Wafa PHC'!P8+MCA!Q8+'Medical Village'!P8 -> 267 | U8: =Rawda!N8+'Dar Al-Wafa PHC'!Q8+MCA!R8+'Medical Village'!Q8 -> 802 | V8: ='Dar Al-Wafa PHC'!R8+MCA!S8+'Medical Village'!R8 -> 23 | W8: =Rawda!O8+'Dar Al-Wafa PHC'!S8+MCA!T8+'Medical Village'!S8 -> 1098 | X8: =Rawda!P8+'Dar Al-Wafa PHC'!T8+MCA!U8+'Medical Village'!T8 -> 5 | Y8: =Rawda!Q8+'Dar Al-Wafa PHC'!U8+MCA!V8+'Medical Village'!U8 -> 143 | Z8: =Rawda!R8+'Dar Al-Wafa PHC'!V8+MCA!W8+'Medical Village'!V8 -> 13 | AA8: =Rawda!S8+MCA!X8+'Medical Village'!W8 -> 23 | AB8: =Rawda!T8+'Dar Al-Wafa PHC'!X8+MCA!Y8+'Medical Village'!X8 -> 4 | AC8: =Rawda!U8+'Dar Al-Wafa PHC'!Y8+MCA!Z8+'Medical Village'!Y8 -> 539 | AD8: =MCA!AA8 -> 11 | AE8: =MCA!AB8 -> 0 | AF8: =MCA!AC8 -> 384 | AG8: =MCA!AD8 -> 305 | AH8: =Rawda!W8+'Dar Al-Wafa PHC'!AB8+MCA!AE8+'Medical Village'!AB8 -> 98 | AI8: =Rawda!V8+'Dar Al-Wafa PHC'!Z8+'Medical Village'!Z8 -> 1 | AJ8: ='Dar Al-Wafa PHC'!AA8+'Medical Village'!AA8 -> 19 | AK8: ='Dar Al-Wafa PHC'!W8 -> 0 | AL8: =MCA!AF8 -> 0 | AM8: =AH8+AG8+AF8+AE8+AD8+AC8+AB8+AA8+Z8+Y8+X8+W8+V8+U8+T8+AI8+AJ8+AK8+AL8 -> 3735 | AN8: =Rawda!Y8+'Dar Al-Wafa PHC'!AD8+MCA!AH8+'Medical Village'!AD8 -> 2020 | AO8: =MCA!AI8 -> 8 | AP8: =MCA!AJ8 -> 16 | AQ8: =AO8+AP8 -> 24 | AR8: =Rawda!Z8+'Dar Al-Wafa PHC'!AE8+MCA!AL8+'Medical Village'!AE8 -> 895 | AS8: =Rawda!AA8+'Dar Al-Wafa PHC'!AF8+MCA!AM8+'Medical Village'!AF8 -> 753 | AT8: =SUM(AR8+AS8) -> 1648 | AU8: =Rawda!AC8+'Dar Al-Wafa PHC'!AH8+MCA!AO8+'Medical Village'!AH8 -> 751 | AV8: =Rawda!AD8+'Dar Al-Wafa PHC'!AI8+MCA!AP8+'Medical Village'!AI8 -> 2283 | AW8: =SUM(AU8+AV8) -> 3034 | AX8: =AW8+AT8 -> 4682
A9: =Rawda!A9 -> 45778 | B9: =Rawda!B9+'Dar Al-Wafa PHC'!B9+MCA!B9+'Medical Village'!B9 -> 855 | C9: =Rawda!C9+'Dar Al-Wafa PHC'!C9+MCA!C9+'Medical Village'!C9 -> 1550 | D9: =Rawda!D9+'Dar Al-Wafa PHC'!D9+MCA!D9+'Medical Village'!D9 -> 587 | E9: =Rawda!E9+'Dar Al-Wafa PHC'!E9+MCA!E9+'Medical Village'!E9 -> 1115 | F9: =Rawda!F9+'Dar Al-Wafa PHC'!F9+MCA!F9+'Medical Village'!F9 -> 200 | G9: =Rawda!G9+MCA!G9+'Medical Village'!G9 -> 11 | H9: ='Dar Al-Wafa PHC'!G9+MCA!H9+'Medical Village'!H9 -> 202 | I9: =Rawda!I9+'Dar Al-Wafa PHC'!I9+MCA!I9+'Medical Village'!J9 -> 15 | J9: =Rawda!J9+MCA!J9+'Medical Village'!K9+'Dar Al-Wafa PHC'!N9 -> 78 | K9: =MCA!K9+'Medical Village'!L9 -> 55 | L9: ='Dar Al-Wafa PHC'!H9+MCA!L9+'Medical Village'!M9 -> 11 | M9: =MCA!M9 -> 32 | N9: =MCA!N9 -> 20 | O9: =Rawda!K9+'Dar Al-Wafa PHC'!K9+MCA!O9+'Medical Village'!N9 -> 55 | P9: =Rawda!H9+'Dar Al-Wafa PHC'!M9 -> 0 | Q9: ='Medical Village'!I9+'Dar Al-Wafa PHC'!J9 -> 48 | R9: ='Dar Al-Wafa PHC'!L9 -> 0 | S9: =B9+C9+D9+E9+F9+G9+H9+I9+J9+K9+L9+O9+M9+N9+P9+Q9+R9 -> 4834 | T9: =Rawda!M9+'Dar Al-Wafa PHC'!P9+MCA!Q9+'Medical Village'!P9 -> 240 | U9: =Rawda!N9+'Dar Al-Wafa PHC'!Q9+MCA!R9+'Medical Village'!Q9 -> 792 | V9: ='Dar Al-Wafa PHC'!R9+MCA!S9+'Medical Village'!R9 -> 38 | W9: =Rawda!O9+'Dar Al-Wafa PHC'!S9+MCA!T9+'Medical Village'!S9 -> 1193 | X9: =Rawda!P9+'Dar Al-Wafa PHC'!T9+MCA!U9+'Medical Village'!T9 -> 12 | Y9: =Rawda!Q9+'Dar Al-Wafa PHC'!U9+MCA!V9+'Medical Village'!U9 -> 94 | Z9: =Rawda!R9+'Dar Al-Wafa PHC'!V9+MCA!W9+'Medical Village'!V9 -> 5 | AA9: =Rawda!S9+MCA!X9+'Medical Village'!W9 -> 31 | AB9: =Rawda!T9+'Dar Al-Wafa PHC'!X9+MCA!Y9+'Medical Village'!X9 -> 11 | AC9: =Rawda!U9+'Dar Al-Wafa PHC'!Y9+MCA!Z9+'Medical Village'!Y9 -> 684 | AD9: =MCA!AA9 -> 5 | AE9: =MCA!AB9 -> 0 | AF9: =MCA!AC9 -> 322 | AG9: =MCA!AD9 -> 463 | AH9: =Rawda!W9+'Dar Al-Wafa PHC'!AB9+MCA!AE9+'Medical Village'!AB9 -> 117 | AI9: =Rawda!V9+'Dar Al-Wafa PHC'!Z9+'Medical Village'!Z9 -> 0 | AJ9: ='Dar Al-Wafa PHC'!AA9+'Medical Village'!AA9 -> 35 | AK9: ='Dar Al-Wafa PHC'!W9 -> 0 | AL9: =MCA!AF9 -> 0 | AM9: =AH9+AG9+AF9+AE9+AD9+AC9+AB9+AA9+Z9+Y9+X9+W9+V9+U9+T9+AI9+AJ9+AK9+AL9 -> 4042 | AN9: =Rawda!Y9+'Dar Al-Wafa PHC'!AD9+MCA!AH9+'Medical Village'!AD9 -> 2373 | AO9: =MCA!AI9 -> 7 | AP9: =MCA!AJ9 -> 5 | AQ9: =AO9+AP9 -> 12 | AR9: =Rawda!Z9+'Dar Al-Wafa PHC'!AE9+MCA!AL9+'Medical Village'!AE9 -> 846 | AS9: =Rawda!AA9+'Dar Al-Wafa PHC'!AF9+MCA!AM9+'Medical Village'!AF9 -> 761 | AT9: =SUM(AR9+AS9) -> 1607 | AU9: =Rawda!AC9+'Dar Al-Wafa PHC'!AH9+MCA!AO9+'Medical Village'!AH9 -> 909 | AV9: =Rawda!AD9+'Dar Al-Wafa PHC'!AI9+MCA!AP9+'Medical Village'!AI9 -> 2364 | AW9: =SUM(AU9+AV9) -> 3273 | AX9: =AW9+AT9 -> 4880
A10: =Rawda!A10 -> 45809 | B10: =Rawda!B10+'Dar Al-Wafa PHC'!B10+MCA!B10+'Medical Village'!B10 -> 757 | C10: =Rawda!C10+'Dar Al-Wafa PHC'!C10+MCA!C10+'Medical Village'!C10 -> 1201 | D10: =Rawda!D10+'Dar Al-Wafa PHC'!D10+MCA!D10+'Medical Village'!D10 -> 518 | E10: =Rawda!E10+'Dar Al-Wafa PHC'!E10+MCA!E10+'Medical Village'!E10 -> 876 | F10: =Rawda!F10+'Dar Al-Wafa PHC'!F10+MCA!F10+'Medical Village'!F10 -> 123 | G10: =Rawda!G10+MCA!G10+'Medical Village'!G10 -> 26 | H10: ='Dar Al-Wafa PHC'!G10+MCA!H10+'Medical Village'!H10 -> 201 | I10: =Rawda!I10+'Dar Al-Wafa PHC'!I10+MCA!I10+'Medical Village'!J10 -> 15 | J10: =Rawda!J10+MCA!J10+'Medical Village'!K10+'Dar Al-Wafa PHC'!N10 -> 51 | K10: =MCA!K10+'Medical Village'!L10 -> 0 | L10: ='Dar Al-Wafa PHC'!H10+MCA!L10+'Medical Village'!M10 -> 7 | M10: =MCA!M10 -> 27 | N10: =MCA!N10 -> 14 | O10: =Rawda!K10+'Dar Al-Wafa PHC'!K10+MCA!O10+'Medical Village'!N10 -> 36 | P10: =Rawda!H10+'Dar Al-Wafa PHC'!M10 -> 0 | Q10: ='Medical Village'!I10+'Dar Al-Wafa PHC'!J10 -> 138 | R10: ='Dar Al-Wafa PHC'!L10 -> 0 | S10: =B10+C10+D10+E10+F10+G10+H10+I10+J10+K10+L10+O10+M10+N10+P10+Q10+R10 -> 3990 | T10: =Rawda!M10+'Dar Al-Wafa PHC'!P10+MCA!Q10+'Medical Village'!P10 -> 181 | U10: =Rawda!N10+'Dar Al-Wafa PHC'!Q10+MCA!R10+'Medical Village'!Q10 -> 752 | V10: ='Dar Al-Wafa PHC'!R10+MCA!S10+'Medical Village'!R10 -> 23 | W10: =Rawda!O10+'Dar Al-Wafa PHC'!S10+MCA!T10+'Medical Village'!S10 -> 897 | X10: =Rawda!P10+'Dar Al-Wafa PHC'!T10+MCA!U10+'Medical Village'!T10 -> 5 | Y10: =Rawda!Q10+'Dar Al-Wafa PHC'!U10+MCA!V10+'Medical Village'!U10 -> 72 | Z10: =Rawda!R10+'Dar Al-Wafa PHC'!V10+MCA!W10+'Medical Village'!V10 -> 7 | AA10: =Rawda!S10+MCA!X10+'Medical Village'!W10 -> 29 | AB10: =Rawda!T10+'Dar Al-Wafa PHC'!X10+MCA!Y10+'Medical Village'!X10 -> 5 | AC10: =Rawda!U10+'Dar Al-Wafa PHC'!Y10+MCA!Z10+'Medical Village'!Y10 -> 736 | AD10: =MCA!AA10 -> 11 | AE10: =MCA!AB10 -> 0 | AF10: =MCA!AC10 -> 307 | AG10: =MCA!AD10 -> 399 | AH10: =Rawda!W10+'Dar Al-Wafa PHC'!AB10+MCA!AE10+'Medical Village'!AB10 -> 82 | AI10: =Rawda!V10+'Dar Al-Wafa PHC'!Z10+'Medical Village'!Z10 -> 2 | AJ10: ='Dar Al-Wafa PHC'!AA10+'Medical Village'!AA10 -> 22 | AK10: ='Dar Al-Wafa PHC'!W10 -> 0 | AL10: =MCA!AF10 -> 2 | AM10: =AH10+AG10+AF10+AE10+AD10+AC10+AB10+AA10+Z10+Y10+X10+W10+V10+U10+T10+AI10+AJ10+AK10+AL10 -> 3532 | AN10: =Rawda!Y10+'Dar Al-Wafa PHC'!AD10+MCA!AH10+'Medical Village'!AD10 -> 1780 | AO10: =MCA!AI10 -> 3 | AP10: =MCA!AJ10 -> 3 | AQ10: =AO10+AP10 -> 6 | AR10: =Rawda!Z10+'Dar Al-Wafa PHC'!AE10+MCA!AL10+'Medical Village'!AE10 -> 694 | AS10: =Rawda!AA10+'Dar Al-Wafa PHC'!AF10+MCA!AM10+'Medical Village'!AF10 -> 665 | AT10: =SUM(AR10+AS10) -> 1359 | AU10: =Rawda!AC10+'Dar Al-Wafa PHC'!AH10+MCA!AO10+'Medical Village'!AH10 -> 702 | AV10: =Rawda!AD10+'Dar Al-Wafa PHC'!AI10+MCA!AP10+'Medical Village'!AI10 -> 1929 | AW10: =SUM(AU10+AV10) -> 2631 | AX10: =AW10+AT10 -> 3990
A11: =Rawda!A11 -> 45839 | B11: =Rawda!B11+'Dar Al-Wafa PHC'!B11+MCA!B11+'Medical Village'!B11 -> 929 | C11: =Rawda!C11+'Dar Al-Wafa PHC'!C11+MCA!C11+'Medical Village'!C11 -> 1227 | D11: =Rawda!D11+'Dar Al-Wafa PHC'!D11+MCA!D11+'Medical Village'!D11 -> 682 | E11: =Rawda!E11+'Dar Al-Wafa PHC'!E11+MCA!E11+'Medical Village'!E11 -> 871 | F11: =Rawda!F11+'Dar Al-Wafa PHC'!F11+MCA!F11+'Medical Village'!F11 -> 197 | G11: =Rawda!G11+MCA!G11+'Medical Village'!G11 -> 26 | H11: ='Dar Al-Wafa PHC'!G11+MCA!H11+'Medical Village'!H11 -> 178 | I11: =Rawda!I11+'Dar Al-Wafa PHC'!I11+MCA!I11+'Medical Village'!J11 -> 28 | J11: =Rawda!J11+MCA!J11+'Medical Village'!K11+'Dar Al-Wafa PHC'!N11 -> 148 | K11: =MCA!K11+'Medical Village'!L11 -> 35 | L11: ='Dar Al-Wafa PHC'!H11+MCA!L11+'Medical Village'!M11 -> 9 | M11: =MCA!M11 -> 31 | N11: =MCA!N11 -> 6 | O11: =Rawda!K11+'Dar Al-Wafa PHC'!K11+MCA!O11+'Medical Village'!N11 -> 25 | P11: =Rawda!H11+'Dar Al-Wafa PHC'!M11 -> 0 | Q11: ='Medical Village'!I11+'Dar Al-Wafa PHC'!J11 -> 139 | R11: ='Dar Al-Wafa PHC'!L11 -> 0 | S11: =B11+C11+D11+E11+F11+G11+H11+I11+J11+K11+L11+O11+M11+N11+P11+Q11+R11 -> 4531 | T11: =Rawda!M11+'Dar Al-Wafa PHC'!P11+MCA!Q11+'Medical Village'!P11 -> 239 | U11: =Rawda!N11+'Dar Al-Wafa PHC'!Q11+MCA!R11+'Medical Village'!Q11 -> 887 | V11: ='Dar Al-Wafa PHC'!R11+MCA!S11+'Medical Village'!R11 -> 23 | W11: =Rawda!O11+'Dar Al-Wafa PHC'!S11+MCA!T11+'Medical Village'!S11 -> 881 | X11: =Rawda!P11+'Dar Al-Wafa PHC'!T11+MCA!U11+'Medical Village'!T11 -> 8 | Y11: =Rawda!Q11+'Dar Al-Wafa PHC'!U11+MCA!V11+'Medical Village'!U11 -> 33 | Z11: =Rawda!R11+'Dar Al-Wafa PHC'!V11+MCA!W11+'Medical Village'!V11 -> 7 | AA11: =Rawda!S11+MCA!X11+'Medical Village'!W11 -> 45 | AB11: =Rawda!T11+'Dar Al-Wafa PHC'!X11+MCA!Y11+'Medical Village'!X11 -> 6 | AC11: =Rawda!U11+'Dar Al-Wafa PHC'!Y11+MCA!Z11+'Medical Village'!Y11 -> 648 | AD11: =MCA!AA11 -> 3 | AE11: =MCA!AB11 -> 5 | AF11: =MCA!AC11 -> 348 | AG11: =MCA!AD11 -> 199 | AH11: =Rawda!W11+'Dar Al-Wafa PHC'!AB11+MCA!AE11+'Medical Village'!AB11 -> 120 | AI11: =Rawda!V11+'Dar Al-Wafa PHC'!Z11+'Medical Village'!Z11 -> 2 | AJ11: ='Dar Al-Wafa PHC'!AA11+'Medical Village'!AA11 -> 22 | AK11: ='Dar Al-Wafa PHC'!W11 -> 0 | AL11: =MCA!AF11 -> 0 | AM11: =AH11+AG11+AF11+AE11+AD11+AC11+AB11+AA11+Z11+Y11+X11+W11+V11+U11+T11+AI11+AJ11+AK11+AL11 -> 3476 | AN11: =Rawda!Y11+'Dar Al-Wafa PHC'!AD11+MCA!AH11+'Medical Village'!AD11 -> 1994 | AO11: =MCA!AI11 -> 4 | AP11: =MCA!AJ11 -> 4 | AQ11: =AO11+AP11 -> 8 | AR11: =Rawda!Z11+'Dar Al-Wafa PHC'!AE11+MCA!AL11+'Medical Village'!AE11 -> 711 | AS11: =Rawda!AA11+'Dar Al-Wafa PHC'!AF11+MCA!AM11+'Medical Village'!AF11 -> 849 | AT11: =SUM(AR11+AS11) -> 1560 | AU11: =Rawda!AC11+'Dar Al-Wafa PHC'!AH11+MCA!AO11+'Medical Village'!AH11 -> 686 | AV11: =Rawda!AD11+'Dar Al-Wafa PHC'!AI11+MCA!AP11+'Medical Village'!AI11 -> 2285 | AW11: =SUM(AU11+AV11) -> 2971 | AX11: =AW11+AT11 -> 4531
A12: =Rawda!A12 -> 45870 | B12: =Rawda!B12+'Dar Al-Wafa PHC'!B12+MCA!B12+'Medical Village'!B12 -> 824 | C12: =Rawda!C12+'Dar Al-Wafa PHC'!C12+MCA!C12+'Medical Village'!C12 -> 1183 | D12: =Rawda!D12+'Dar Al-Wafa PHC'!D12+MCA!D12+'Medical Village'!D12 -> 684 | E12: =Rawda!E12+'Dar Al-Wafa PHC'!E12+MCA!E12+'Medical Village'!E12 -> 886 | F12: =Rawda!F12+'Dar Al-Wafa PHC'!F12+MCA!F12+'Medical Village'!F12 -> 128 | G12: =Rawda!G12+MCA!G12+'Medical Village'!G12 -> 29 | H12: ='Dar Al-Wafa PHC'!G12+MCA!H12+'Medical Village'!H12 -> 279 | I12: =Rawda!I12+'Dar Al-Wafa PHC'!I12+MCA!I12+'Medical Village'!J12 -> 22 | J12: =Rawda!J12+MCA!J12+'Medical Village'!K12+'Dar Al-Wafa PHC'!N12 -> 174 | K12: =MCA!K12+'Medical Village'!L12 -> 83 | L12: ='Dar Al-Wafa PHC'!H12+MCA!L12+'Medical Village'!M12 -> 11 | M12: =MCA!M12 -> 0 | N12: =MCA!N12 -> 2 | O12: =Rawda!K12+'Dar Al-Wafa PHC'!K12+MCA!O12+'Medical Village'!N12 -> 41 | P12: =Rawda!H12+'Dar Al-Wafa PHC'!M12 -> 0 | Q12: ='Medical Village'!I12+'Dar Al-Wafa PHC'!J12 -> 85 | R12: ='Dar Al-Wafa PHC'!L12 -> 0 | S12: =B12+C12+D12+E12+F12+G12+H12+I12+J12+K12+L12+O12+M12+N12+P12+Q12+R12 -> 4431 | T12: =Rawda!M12+'Dar Al-Wafa PHC'!P12+MCA!Q12+'Medical Village'!P12 -> 152 | U12: =Rawda!N12+'Dar Al-Wafa PHC'!Q12+MCA!R12+'Medical Village'!Q12 -> 715 | V12: ='Dar Al-Wafa PHC'!R12+MCA!S12+'Medical Village'!R12 -> 28 | W12: =Rawda!O12+'Dar Al-Wafa PHC'!S12+MCA!T12+'Medical Village'!S12 -> 839 | X12: =Rawda!P12+'Dar Al-Wafa PHC'!T12+MCA!U12+'Medical Village'!T12 -> 0 | Y12: =Rawda!Q12+'Dar Al-Wafa PHC'!U12+MCA!V12+'Medical Village'!U12 -> 21 | Z12: =Rawda!R12+'Dar Al-Wafa PHC'!V12+MCA!W12+'Medical Village'!V12 -> 9 | AA12: =Rawda!S12+MCA!X12+'Medical Village'!W12 -> 36 | AB12: =Rawda!T12+'Dar Al-Wafa PHC'!X12+MCA!Y12+'Medical Village'!X12 -> 4 | AC12: =Rawda!U12+'Dar Al-Wafa PHC'!Y12+MCA!Z12+'Medical Village'!Y12 -> 484 | AD12: =MCA!AA12 -> 10 | AE12: =MCA!AB12 -> 0 | AF12: =MCA!AC12 -> 351 | AG12: =MCA!AD12 -> 61 | AH12: =Rawda!W12+'Dar Al-Wafa PHC'!AB12+MCA!AE12+'Medical Village'!AB12 -> 132 | AI12: =Rawda!V12+'Dar Al-Wafa PHC'!Z12+'Medical Village'!Z12 -> 0 | AJ12: ='Dar Al-Wafa PHC'!AA12+'Medical Village'!AA12 -> 27 | AK12: ='Dar Al-Wafa PHC'!W12 -> 0 | AL12: =MCA!AF12 -> 0 | AM12: =AH12+AG12+AF12+AE12+AD12+AC12+AB12+AA12+Z12+Y12+X12+W12+V12+U12+T12+AI12+AJ12+AK12+AL12 -> 2869 | AN12: =Rawda!Y12+'Dar Al-Wafa PHC'!AD12+MCA!AH12+'Medical Village'!AD12 -> 1886 | AO12: =MCA!AI12 -> 5 | AP12: =MCA!AJ12 -> 17 | AQ12: =AO12+AP12 -> 22 | AR12: =Rawda!Z12+'Dar Al-Wafa PHC'!AE12+MCA!AL12+'Medical Village'!AE12 -> 692 | AS12: =Rawda!AA12+'Dar Al-Wafa PHC'!AF12+MCA!AM12+'Medical Village'!AF12 -> 874 | AT12: =SUM(AR12+AS12) -> 1566 | AU12: =Rawda!AC12+'Dar Al-Wafa PHC'!AH12+MCA!AO12+'Medical Village'!AH12 -> 657 | AV12: =Rawda!AD12+'Dar Al-Wafa PHC'!AI12+MCA!AP12+'Medical Village'!AI12 -> 2235 | AW12: =SUM(AU12+AV12) -> 2892 | AX12: =AW12+AT12 -> 4458
A13: =Rawda!A13 -> 45901 | B13: =Rawda!B13+'Dar Al-Wafa PHC'!B13+MCA!B13+'Medical Village'!B13 -> 748 | C13: =Rawda!C13+'Dar Al-Wafa PHC'!C13+MCA!C13+'Medical Village'!C13 -> 884 | D13: =Rawda!D13+'Dar Al-Wafa PHC'!D13+MCA!D13+'Medical Village'!D13 -> 599 | E13: =Rawda!E13+'Dar Al-Wafa PHC'!E13+MCA!E13+'Medical Village'!E13 -> 876 | F13: =Rawda!F13+'Dar Al-Wafa PHC'!F13+MCA!F13+'Medical Village'!F13 -> 223 | G13: =Rawda!G13+MCA!G13+'Medical Village'!G13 -> 37 | H13: ='Dar Al-Wafa PHC'!G13+MCA!H13+'Medical Village'!H13 -> 213 | I13: =Rawda!I13+'Dar Al-Wafa PHC'!I13+MCA!I13+'Medical Village'!J13 -> 21 | J13: =Rawda!J13+MCA!J13+'Medical Village'!K13+'Dar Al-Wafa PHC'!N13 -> 192 | K13: =MCA!K13+'Medical Village'!L13 -> 52 | L13: ='Dar Al-Wafa PHC'!H13+MCA!L13+'Medical Village'!M13 -> 7 | M13: =MCA!M13 -> 175 | N13: =MCA!N13 -> 0 | O13: =Rawda!K13+'Dar Al-Wafa PHC'!K13+MCA!O13+'Medical Village'!N13 -> 66 | P13: =Rawda!H13+'Dar Al-Wafa PHC'!M13 -> 0 | Q13: ='Medical Village'!I13+'Dar Al-Wafa PHC'!J13 -> 115 | R13: ='Dar Al-Wafa PHC'!L13 -> 0 | S13: =B13+C13+D13+E13+F13+G13+H13+I13+J13+K13+L13+O13+M13+N13+P13+Q13+R13 -> 4208 | T13: =Rawda!M13+'Dar Al-Wafa PHC'!P13+MCA!Q13+'Medical Village'!P13 -> 198 | U13: =Rawda!N13+'Dar Al-Wafa PHC'!Q13+MCA!R13+'Medical Village'!Q13 -> 663 | V13: ='Dar Al-Wafa PHC'!R13+MCA!S13+'Medical Village'!R13 -> 43 | W13: =Rawda!O13+'Dar Al-Wafa PHC'!S13+MCA!T13+'Medical Village'!S13 -> 879 | X13: =Rawda!P13+'Dar Al-Wafa PHC'!T13+MCA!U13+'Medical Village'!T13 -> 2 | Y13: =Rawda!Q13+'Dar Al-Wafa PHC'!U13+MCA!V13+'Medical Village'!U13 -> 23 | Z13: =Rawda!R13+'Dar Al-Wafa PHC'!V13+MCA!W13+'Medical Village'!V13 -> 5 | AA13: =Rawda!S13+MCA!X13+'Medical Village'!W13 -> 35 | AB13: =Rawda!T13+'Dar Al-Wafa PHC'!X13+MCA!Y13+'Medical Village'!X13 -> 0 | AC13: =Rawda!U13+'Dar Al-Wafa PHC'!Y13+MCA!Z13+'Medical Village'!Y13 -> 377 | AD13: =MCA!AA13 -> 8 | AE13: =MCA!AB13 -> 0 | AF13: =MCA!AC13 -> 333 | AG13: =MCA!AD13 -> 0 | AH13: =Rawda!W13+'Dar Al-Wafa PHC'!AB13+MCA!AE13+'Medical Village'!AB13 -> 97 | AI13: =Rawda!V13+'Dar Al-Wafa PHC'!Z13+'Medical Village'!Z13 -> 1 | AJ13: ='Dar Al-Wafa PHC'!AA13+'Medical Village'!AA13 -> 22 | AK13: ='Dar Al-Wafa PHC'!W13 -> 0 | AL13: =MCA!AF13 -> 0 | AM13: =AH13+AG13+AF13+AE13+AD13+AC13+AB13+AA13+Z13+Y13+X13+W13+V13+U13+T13+AI13+AJ13+AK13+AL13 -> 2686 | AN13: =Rawda!Y13+'Dar Al-Wafa PHC'!AD13+MCA!AH13+'Medical Village'!AD13 -> 1885 | AO13: =MCA!AI13 -> 7 | AP13: =MCA!AJ13 -> 25 | AQ13: =AO13+AP13 -> 32 | AR13: =Rawda!Z13+'Dar Al-Wafa PHC'!AE13+MCA!AL13+'Medical Village'!AE13 -> 552 | AS13: =Rawda!AA13+'Dar Al-Wafa PHC'!AF13+MCA!AM13+'Medical Village'!AF13 -> 820 | AT13: =SUM(AR13+AS13) -> 1372 | AU13: =Rawda!AC13+'Dar Al-Wafa PHC'!AH13+MCA!AO13+'Medical Village'!AH13 -> 559 | AV13: =Rawda!AD13+'Dar Al-Wafa PHC'!AI13+MCA!AP13+'Medical Village'!AI13 -> 2277 | AW13: =SUM(AU13+AV13) -> 2836 | AX13: =AW13+AT13 -> 4208
A14: =Rawda!A14 -> 45931 | B14: =Rawda!B14+'Dar Al-Wafa PHC'!B14+MCA!B14+'Medical Village'!B14 -> 795 | C14: =Rawda!C14+'Dar Al-Wafa PHC'!C14+MCA!C14+'Medical Village'!C14 -> 1007 | D14: =Rawda!D14+'Dar Al-Wafa PHC'!D14+MCA!D14+'Medical Village'!D14 -> 634 | E14: =Rawda!E14+'Dar Al-Wafa PHC'!E14+MCA!E14+'Medical Village'!E14 -> 840 | F14: =Rawda!F14+'Dar Al-Wafa PHC'!F14+MCA!F14+'Medical Village'!F14 -> 221 | G14: =Rawda!G14+MCA!G14+'Medical Village'!G14 -> 19 | H14: ='Dar Al-Wafa PHC'!G14+MCA!H14+'Medical Village'!H14 -> 199 | I14: =Rawda!I14+'Dar Al-Wafa PHC'!I14+MCA!I14+'Medical Village'!J14 -> 6 | J14: =Rawda!J14+MCA!J14+'Medical Village'!K14+'Dar Al-Wafa PHC'!N14 -> 167 | K14: =MCA!K14+'Medical Village'!L14 -> 76 | L14: ='Dar Al-Wafa PHC'!H14+MCA!L14+'Medical Village'!M14 -> 9 | M14: =MCA!M14 -> 2 | N14: =MCA!N14 -> 0 | O14: =Rawda!K14+'Dar Al-Wafa PHC'!K14+MCA!O14+'Medical Village'!N14 -> 41 | P14: =Rawda!H14+'Dar Al-Wafa PHC'!M14 -> 0 | Q14: ='Medical Village'!I14+'Dar Al-Wafa PHC'!J14 -> 99 | R14: ='Dar Al-Wafa PHC'!L14 -> 0 | S14: =B14+C14+D14+E14+F14+G14+H14+I14+J14+K14+L14+O14+M14+N14+P14+Q14+R14 -> 4115 | T14: =Rawda!M14+'Dar Al-Wafa PHC'!P14+MCA!Q14+'Medical Village'!P14 -> 285 | U14: =Rawda!N14+'Dar Al-Wafa PHC'!Q14+MCA!R14+'Medical Village'!Q14 -> 730 | V14: ='Dar Al-Wafa PHC'!R14+MCA!S14+'Medical Village'!R14 -> 27 | W14: =Rawda!O14+'Dar Al-Wafa PHC'!S14+MCA!T14+'Medical Village'!S14 -> 873 | X14: =Rawda!P14+'Dar Al-Wafa PHC'!T14+MCA!U14+'Medical Village'!T14 -> 1 | Y14: =Rawda!Q14+'Dar Al-Wafa PHC'!U14+MCA!V14+'Medical Village'!U14 -> 10 | Z14: =Rawda!R14+'Dar Al-Wafa PHC'!V14+MCA!W14+'Medical Village'!V14 -> 2 | AA14: =Rawda!S14+MCA!X14+'Medical Village'!W14 -> 17 | AB14: =Rawda!T14+'Dar Al-Wafa PHC'!X14+MCA!Y14+'Medical Village'!X14 -> 2 | AC14: =Rawda!U14+'Dar Al-Wafa PHC'!Y14+MCA!Z14+'Medical Village'!Y14 -> 163 | AD14: =MCA!AA14 -> 6 | AE14: =MCA!AB14 -> 0 | AF14: =MCA!AC14 -> 252 | AG14: =MCA!AD14 -> 0 | AH14: =Rawda!W14+'Dar Al-Wafa PHC'!AB14+MCA!AE14+'Medical Village'!AB14 -> 48 | AI14: =Rawda!V14+'Dar Al-Wafa PHC'!Z14+'Medical Village'!Z14 -> 2 | AJ14: ='Dar Al-Wafa PHC'!AA14+'Medical Village'!AA14 -> 22 | AK14: ='Dar Al-Wafa PHC'!W14 -> 0 | AL14: =MCA!AF14 -> 0 | AM14: =AH14+AG14+AF14+AE14+AD14+AC14+AB14+AA14+Z14+Y14+X14+W14+V14+U14+T14+AI14+AJ14+AK14+AL14 -> 2440 | AN14: =Rawda!Y14+'Dar Al-Wafa PHC'!AD14+MCA!AH14+'Medical Village'!AD14 -> 1862 | AO14: =MCA!AI14 -> 2 | AP14: =MCA!AJ14 -> 13 | AQ14: =AO14+AP14 -> 15 | AR14: =Rawda!Z14+'Dar Al-Wafa PHC'!AE14+MCA!AL14+'Medical Village'!AE14 -> 659 | AS14: =Rawda!AA14+'Dar Al-Wafa PHC'!AF14+MCA!AM14+'Medical Village'!AF14 -> 723 | AT14: =SUM(AR14+AS14) -> 1382 | AU14: =Rawda!AC14+'Dar Al-Wafa PHC'!AH14+MCA!AO14+'Medical Village'!AH14 -> 692 | AV14: =Rawda!AD14+'Dar Al-Wafa PHC'!AI14+MCA!AP14+'Medical Village'!AI14 -> 2041 | AW14: =SUM(AU14+AV14) -> 2733 | AX14: =AW14+AT14 -> 4115
